BEGIN:VCALENDAR
VERSION:2.0
PRODID:-//ChamberMaster//Event Calendar 2.0//EN
METHOD:PUBLISH
X-PUBLISHED-TTL:P3D
REFRESH-INTERVAL:P3D
CALSCALE:GREGORIAN
BEGIN:VEVENT
DTSTART:20230922T213000Z
DTEND:20230922T233000Z
X-MICROSOFT-CDO-ALLDAYEVENT:FALSE
SUMMARY:2024 Season Reveal
DESCRIPTION:Or go here.\n\n\n\n\n\n\n\n\n\nSeptember 22\, 2023\n\n5:30   7:30 pm\n\nBlue Ridge Beer Garden\n\n402 S. Church St. Hendersonville\, NC\n\n\n\n\n\n\n\n\n\n\nOur 2024 Season Reveal will feature a food truck and drinks\, giveaways\, theatre trivia (the winner will receive 2024 Season tickets)\, and\, of course\, the 2024 season reveal! With your presence and support\, we believe we can make a meaningful difference for the Hendersonville Theatre while we celebrate in style our exciting season to come! This is also your first opportunity to purchase your season tickets ahead of the crowd.\n\nEach year\, Hendersonville Theatre brings our community together to provide affordable performing arts\, live music and educational opportunities! We believe live theatre makes the world a little brighter for our community. It would be our honor and privilege to have you in attendance for our most important event of the year! \n\n\n\n\n\nFeaturing Food Truck \n\n\n\n\n\n\n\n\n\n \n\n\n\n\n\nShaa'bingo Jamaican Street Food is flavorful and comforting. It's a mixture of diverse cultures\, spices\, and foods from across the Indian Ocean and Caribbean Sea regions. Jamaican meals are popular for their use of sauces\, coconut\, rice\, peas and plantains as ingredients while using fish\, chicken\, and oxtails as a protein source. What makes Shaa'bingo Jamaican Street Food Unique\, The Chef focuses on local fruits\, vegetables\, meats and seafood that are all typically grown and sourced by the regional farmers.\n\n\n\n\n\n\n\n\n\n\nAbout Hendersonville Theatre:\n\nOur mission is to inspire\, nurture\, enrich\, empower\, educate\, entertain and challenge artists and audiences with theatrical productions that range from the classics to new works\; we train and support the next generation of theatre artists\; we provide arts education programs that promote life-long learning to a diverse community\; we provide affordable live music events and we celebrate the essential power of the theatre to illuminate our common humanity. We have been passionately working towards this goal for 56 years and the success of this annual event is a driving factor in our ability to make a difference. Your participation can help us bring hope and change to your community theatre! \n\nThis is a perfect opportunity to sign up your business to be one of our sponsors\, helping to raise funds to keep the theatre growing and expanding for our patrons! In the wise words of Willem Dafoe\, "Great theatre is about challenging how we think and encouraging us to fantasize about a world we aspire to!" Don't miss out on this exclusive inside peek into all the wonderful programs that will be offered here at The Hendersonville Theatre! \n\nCan't make it to the event but still interested in donating or being a sponsor Reach out today to Michele Stukes at michelestukes@hvltheatre.org
X-ALT-DESC;FMTTYPE=text/html:<div>\n<div style="text-align:var(--text-align)">\n<div style="text-align:center">\n<div>\n<p>Or go&nbsp\;<a href="https://hendersonvilletheatre.org/2024-season-reveal-rsvp/" style="box-sizing: border-box\; background-color: transparent\; transition: all 0.1s ease-in 0s\; text-decoration-line: none\; color: rgb(2\, 153\, 70)\; box-shadow: none\;">here.</a></p>\n</div>\n</div>\n</div>\n</div>\n\n<div>\n<div style="text-align:var(--text-align)">\n<div style="text-align:center">\n<div>\n<h3>September 22\, 2023</h3>\n\n<h3>5:30 &ndash\; 7:30 pm</h3>\n\n<h3>Blue Ridge Beer Garden</h3>\n\n<h3>402 S. Church St. Hendersonville\, NC</h3>\n</div>\n</div>\n</div>\n</div>\n\n<div style="margin-left:auto\; margin-right:auto">\n<div>\n<div>\n<div>\n<div>\n<p>Our&nbsp\;2024&nbsp\;Season&nbsp\;Reveal&nbsp\;will feature a food truck and drinks\, giveaways\, theatre trivia (the winner will receive 2024 Season tickets)\, and\, of course\, the 2024 season reveal! With your presence and support\, we believe we can make a meaningful difference for the Hendersonville Theatre while we celebrate in style our exciting season to come! This is also your first opportunity to purchase your season tickets ahead of the crowd.</p>\n\n<p>Each year\,&nbsp\;Hendersonville Theatre&nbsp\;brings our community together&nbsp\;to provide affordable performing arts\, live music and educational opportunities! We believe live&nbsp\;theatre&nbsp\;makes the world a little brighter for&nbsp\;our community.&nbsp\;It would be our honor and privilege to have you in attendance for our most important event of the year!&nbsp\;</p>\n</div>\n</div>\n\n<div>\n<div>\n<h3>Featuring Food Truck&hellip\;</h3>\n</div>\n</div>\n</div>\n</div>\n</div>\n\n<div>\n<div style="text-align:var(--text-align)">\n<div style="text-align:var(--text-align)">\n<div style="text-align:center">&nbsp\;</div>\n</div>\n\n<div style="text-align:var(--text-align)">\n<div>\n<div>\n<p>Shaa&rsquo\;bingo Jamaican Street Food is flavorful and comforting. It&rsquo\;s a mixture of diverse cultures\, spices\, and foods from across the Indian Ocean and Caribbean Sea regions. Jamaican meals are popular for their use of sauces\, coconut\, rice\, peas and plantains as ingredients while using fish\, chicken\, and oxtails as a protein source. What makes Shaa&rsquo\;bingo Jamaican Street Food Unique\, The Chef focuses on local fruits\, vegetables\, meats and seafood that are all typically grown and sourced by the regional farmers.</p>\n</div>\n</div>\n</div>\n</div>\n</div>\n\n<div>\n<div style="text-align:var(--text-align)">\n<div>\n<div>\n<h3>About&nbsp\;Hendersonville Theatre:</h3>\n\n<p>Our mission is to&nbsp\;inspire\, nurture\, enrich\, empower\, educate\, entertain and challenge artists and audiences with theatrical productions that range from the classics to new works\; we train and support the next generation of theatre artists\; we provide arts education programs that promote life-long learning to a diverse community\;&nbsp\;we provide affordable live music events&nbsp\;and we celebrate the essential power of the theatre to illuminate our common humanity. We have been passionately working towards this goal for&nbsp\;56 years&nbsp\;and the success of this annual event is a driving factor in our ability to make a difference. Your participation can help us bring hope and change to&nbsp\;your community theatre!&nbsp\;</p>\n\n<p>This is a perfect opportunity to sign up your business to be one of our sponsors\, helping to raise funds to keep the theatre growing and expanding for our patrons!&nbsp\;In the wise words of Willem Dafoe\,&nbsp\;<em>&ldquo\;Great theatre is about challenging how we think and encouraging us to fantasize&nbsp\;about a world we aspire to!&rdquo\;&nbsp\;</em>Don&rsquo\;t miss out&nbsp\;on this exclusive inside peek into all the wonderful programs that will be offered here at The Hendersonville Theatre!&nbsp\;</p>\n\n<p>Can&rsquo\;t make it&nbsp\;to the event but still interested in donating or being a sponsor Reach out today to Michele Stukes at&nbsp\;<a href="mailto:michelestukes@hvltheatre.org" style="box-sizing: border-box\; background-color: transparent\; transition: all 0.1s ease-in 0s\; text-decoration-line: none\; color: rgb(2\, 153\, 70)\; box-shadow: none\;">michelestukes@hvltheatre.org</a></p>\n</div>\n</div>\n</div>\n</div>\n
LOCATION:Blue Ridge Beer Garden 402 S. Church St. Hendersonville\, NC 28739
UID:e.2975.6159
SEQUENCE:3
DTSTAMP:20260419T182032Z
URL:https://business.hendersoncountychamber.org/events/details/2024-season-reveal-6159
END:VEVENT

END:VCALENDAR
