BEGIN:VCALENDAR
VERSION:2.0
PRODID:-//ChamberMaster//Event Calendar 2.0//EN
METHOD:PUBLISH
X-PUBLISHED-TTL:P3D
REFRESH-INTERVAL:P3D
CALSCALE:GREGORIAN
BEGIN:VEVENT
DTSTART:20230919T203000Z
DTEND:20230919T230000Z
X-MICROSOFT-CDO-ALLDAYEVENT:FALSE
SUMMARY:3rd Tuesdays
DESCRIPTION:3rd Tuesdays each month\, business owners join the community for a beverage or snack!\n\nRules:\n\n1. NO NAME TAGS (yes\, we will ask you to remove them before coming in)\n\nThis is an environment where we don't let our nametag do the talking for us. This is about real people having a real conversation. We work together to promote genuine and engaging interactions.\n\n \n\n3rd Tuesdays is about...\n\nBusiness owners meeting other peers outside their circle\n\nCreating an environment of connection and collaboration\n\nFinding ways to support one another in business\n\nSharing business ideas and wisdom from your experience\n\nLeaving with at least 3 new\, strong connections
X-ALT-DESC;FMTTYPE=text/html:<h3>3rd Tuesdays each month\, business owners join the community for a beverage or snack!</h3>\n\n<h3>Rules:</h3>\n\n<h3>1. NO NAME TAGS (yes\, we will ask you to remove them before coming in)</h3>\n\n<h3>This is an environment where we don&#39\;t let our nametag do the talking for us. This is about real people having a real conversation. We work together to promote genuine and engaging interactions.</h3>\n\n<h3>&nbsp\;</h3>\n\n<h3>3rd Tuesdays is about...</h3>\n\n<h3>Business owners meeting other peers outside their circle</h3>\n\n<h3>Creating an environment of connection and collaboration</h3>\n\n<h3>Finding ways to support one another in business</h3>\n\n<h3>Sharing business ideas and wisdom from your experience</h3>\n\n<h3>Leaving with at least 3 new\, strong connections</h3>\n
LOCATION:Pleb Urban Winery 289 Lyman St Asheville\, NC 28801
UID:e.2975.5383
SEQUENCE:3
DTSTAMP:20260419T162650Z
URL:https://business.hendersoncountychamber.org/events/details/3rd-tuesdays-09-19-2023-5383
END:VEVENT

END:VCALENDAR
