BEGIN:VCALENDAR
VERSION:2.0
PRODID:-//ChamberMaster//Event Calendar 2.0//EN
METHOD:PUBLISH
X-PUBLISHED-TTL:P3D
REFRESH-INTERVAL:P3D
CALSCALE:GREGORIAN
BEGIN:VEVENT
DTSTART:20230420T133000Z
DTEND:20230420T150000Z
X-MICROSOFT-CDO-ALLDAYEVENT:FALSE
SUMMARY:6 Steps to Grow Your Business...Even in a Down Economy
DESCRIPTION:6 Steps To Growing Your Business (Even in a Down Economy). Do you want to make more money? Do you want control of your time? Do you want to find and keep good people on your team?\n\nJoin us to unlock the strategies for a great business.\n\nWhat you will learn in this workshop:\n\n\n	How to work ON your business instead of IN your business\n	How to turn your advertising and marketing into an investment instead of an expense\n	How to leverage your time to maximize efficiency and profits\n	How to recruit\, motivate\, educate\, and retain exceptional employees
X-ALT-DESC;FMTTYPE=text/html:<p>6 Steps To Growing Your Business (Even in a Down Economy). Do you want to make more money? Do you want control of your time? Do you want to find and keep good people on your team?</p>\n\n<p>Join us to unlock the strategies for a great business.</p>\n\n<p>What you will learn in this workshop:</p>\n\n<ul>\n	<li>How to work ON your business instead of IN your business</li>\n	<li>How to turn your advertising and marketing into an investment instead of an expense</li>\n	<li>How to leverage your time to maximize efficiency and profits</li>\n	<li>How to recruit\, motivate\, educate\, and retain exceptional employees</li>\n</ul>\n\n<p>&nbsp\;</p>\n
LOCATION:Asheville Sports Club 137 Coxe Ave Asheville\, NC 28801
UID:e.2975.5378
SEQUENCE:3
DTSTAMP:20260422T092738Z
URL:https://business.hendersoncountychamber.org/events/details/6-steps-to-grow-your-business-even-in-a-down-economy-04-20-2023-5378
END:VEVENT

END:VCALENDAR
