BEGIN:VCALENDAR
VERSION:2.0
PRODID:-//ChamberMaster//Event Calendar 2.0//EN
METHOD:PUBLISH
X-PUBLISHED-TTL:P3D
REFRESH-INTERVAL:P3D
CALSCALE:GREGORIAN
BEGIN:VEVENT
DTSTART:20230323T153000Z
DTEND:20230323T170000Z
X-MICROSOFT-CDO-ALLDAYEVENT:FALSE
SUMMARY:6 Steps To Grow Your Business...Even In A Down Economy "Lunch & Learn"*
DESCRIPTION:6 Steps To Growing Your Business...Even in a Down Economy. Do you want to make more money? Do you want control of your time? Do you want to find and keep good people on your team?\n\nJoin us and learn how to unlock the strategies for a great business.*\n\nWhat you will learn in this workshop:\n\n\n	How to work ON your business instead of IN your business\n	How to turn your advertising and marketing into an investment instead of an expense\n	How to leverage your time to maximize efficiency and profits\n	How to recruit\, motivate\, educate\, and retain exceptional employees\n\n\nYou'll learn all of these things and more. Don't you owe it to yourself to invest some of your time learning how your business can reach its full potential?\n\n\n\nMany thanks to our Co Sponsor The Original Relocation Guide\n\n\n\nTo register go to https://Hendo6Steps.eventbrite.com\n\n\n\n*Lunch provided by Bakers Box
X-ALT-DESC;FMTTYPE=text/html:<p>6 Steps To Growing Your Business...Even in a Down Economy. Do you want to make more money? Do you want control of your time? Do you want to find and keep good people on your team?</p>\n\n<p>Join us and learn how to unlock the strategies for a great business.*</p>\n\n<p>What you will learn in this workshop:</p>\n\n<ul>\n	<li>How to work ON your business instead of IN your business</li>\n	<li>How to turn your advertising and marketing into an investment instead of an expense</li>\n	<li>How to leverage your time to maximize efficiency and profits</li>\n	<li>How to recruit\, motivate\, educate\, and retain exceptional employees</li>\n</ul>\n\n<p>You&rsquo\;ll learn all of these things and more. Don&rsquo\;t you owe it to yourself to invest some of your time learning how your business can reach its full potential?<br />\n<br />\nMany thanks to our Co Sponsor The Original Relocation Guide<br />\n<br />\nTo register go to&nbsp\;<a href="https://Hendo6Steps.eventbrite.com">https://Hendo6Steps.eventbrite.com</a><br />\n<br />\n*Lunch provided by Bakers Box</p>\n
LOCATION:Henderson County Chamber of Commerce 204 Kanuga Road Hendersonville\, NC 28739
UID:e.2975.5355
SEQUENCE:3
DTSTAMP:20260422T111427Z
URL:https://business.hendersoncountychamber.org/events/details/6-steps-to-grow-your-business-even-in-a-down-economy-5355
END:VEVENT

END:VCALENDAR
