BEGIN:VCALENDAR
VERSION:2.0
PRODID:-//ChamberMaster//Event Calendar 2.0//EN
METHOD:PUBLISH
X-PUBLISHED-TTL:P3D
REFRESH-INTERVAL:P3D
CALSCALE:GREGORIAN
BEGIN:VEVENT
DTSTART:20221112T003000Z
DTEND:20221112T023000Z
X-MICROSOFT-CDO-ALLDAYEVENT:FALSE
SUMMARY:A Salute to Veterans with Hendersonville Swing Band
DESCRIPTION:Hendersonville Swing Band's first and only Veteran's Day USO themed concert! The Hendersonville Swing Band\, under the direction of trombonist Jerry Zink\, plays music of the Big Band era of the '30s\, '40s and '50s. The band is primarily a rehearsal band made up of a group of 17 musicians who get together to play this music for their own enjoyment. Nearly all the members of the band are retirees. At present\, the band has members from Henderson\, Transylvania\, Haywood and Buncombe counties.
X-ALT-DESC;FMTTYPE=text/html:<span style="color:var( --e-global-color-text )\; font-family:arial\,sans-serif\; font-size:16px">Hendersonville Swing Band&rsquo\;s first and only Veteran&rsquo\;s Day USO themed concert!&nbsp\;</span><span style="color:rgb(35\, 31\, 32)\; font-family:arial\,sans-serif\; font-size:16px">The Hendersonville Swing Band\, under the direction of trombonist Jerry Zink\, plays music of the Big Band era of the &lsquo\;30s\, &lsquo\;40s and &lsquo\;50s. The band is primarily a rehearsal band made up of a group of 17 musicians who get together to play this music for their own enjoyment. Nearly all the members of the band are retirees. At present\, the band has members from Henderson\, Transylvania\, Haywood and Buncombe counties.&nbsp\;</span>
LOCATION:Hendersonville Theatre 229 S. Washington Street Hendersonville\, NC 28739
UID:e.2975.4657
SEQUENCE:3
DTSTAMP:20260422T203108Z
URL:https://business.hendersoncountychamber.org/events/details/a-salute-to-veterans-with-hendersonville-swing-band-4657
END:VEVENT

END:VCALENDAR
