BEGIN:VCALENDAR
VERSION:2.0
PRODID:-//ChamberMaster//Event Calendar 2.0//EN
METHOD:PUBLISH
X-PUBLISHED-TTL:P3D
REFRESH-INTERVAL:P3D
CALSCALE:GREGORIAN
BEGIN:VEVENT
DTSTART;VALUE=DATE:20230311
DTEND;VALUE=DATE:20230312
TRANSP:TRANSPARENT
X-MICROSOFT-CDO-ALLDAYEVENT:TRUE
SUMMARY:Act2 Players Present: The Importance of Being Earnest\, A Trivial Comedy for Serious People
DESCRIPTION:By Oscar Wilde\n\nDirector: John Baldwin\n\n \n\nThe most renowned of Oscar Wilde's comedies\, The Importance of Being Earnest is the story of two bachelors\, John "Jack" Worthing and Algernon "Algy" Moncrieff\, who create alter egos named Ernest to escape their tiresome lives. They attempt to win the hearts of two women who\, conveniently\, claim to only love men called Ernest. The pair struggle to keep up with their own stories and become tangled in a tale of deception\, disguise and misadventure. The elaborate plot ridicules Victorian sensibilities with some of the best loved\, and indeed bizarre\, characters to be found on the modern stage. Presented in a reader's theater format\, actors don't memorize scripts but read them to the audience while using their voices and upper bodies to convey the roles they are playing.\n\n \n\nApproximate Run Time: 2 hours\n\nRating: PG due to mild adult situations\n\n \n\nThis project is supported by the North Carolina Arts Council\, a division of the Department of Natural and Cultural Resources\, the Arts Council of Henderson County and the City of Hendersonville.
X-ALT-DESC;FMTTYPE=text/html:<div>By Oscar Wilde</div>\n\n<div>Director: John Baldwin<br />\n&nbsp\;</div>\n\n<div>The most renowned of Oscar Wilde&rsquo\;s comedies\, The Importance of Being Earnest is the story of two bachelors\, John &ldquo\;Jack&rdquo\; Worthing and Algernon &ldquo\;Algy&rdquo\; Moncrieff\, who create alter egos named Ernest to escape their tiresome lives. They attempt to win the hearts of two women who\, conveniently\, claim to only love men called Ernest. The pair struggle to keep up with their own stories and become tangled in a tale of deception\, disguise and misadventure. The elaborate plot ridicules Victorian sensibilities with some of the best loved\, and indeed bizarre\, characters to be found on the modern stage. Presented in a reader&#39\;s theater format\, actors don&#39\;t memorize scripts but read them to the audience while using their voices and upper bodies to convey the roles they are playing.<br />\n&nbsp\;</div>\n\n<div>Approximate Run Time: 2 hours<br />\nRating: PG due to mild adult situations<br />\n&nbsp\;</div>\n\n<div>This project is supported by the North Carolina Arts Council\, a division of the Department of Natural and Cultural Resources\, the Arts Council of Henderson County and the City of Hendersonville.</div>\n
LOCATION:Hendersonville Theatre 229 S. Washington Street Hendersonville\, NC 28739
UID:e.2975.5321
SEQUENCE:3
DTSTAMP:20260422T111658Z
URL:https://business.hendersoncountychamber.org/events/details/act2-players-present-the-importance-of-being-earnest-a-trivial-comedy-for-serious-people-5321
END:VEVENT

END:VCALENDAR
