BEGIN:VCALENDAR
VERSION:2.0
PRODID:-//ChamberMaster//Event Calendar 2.0//EN
METHOD:PUBLISH
X-PUBLISHED-TTL:P3D
REFRESH-INTERVAL:P3D
CALSCALE:GREGORIAN
BEGIN:VEVENT
DTSTART:20231014T140000Z
DTEND:20231014T180000Z
X-MICROSOFT-CDO-ALLDAYEVENT:FALSE
SUMMARY:Adult Audition Workshop
DESCRIPTION:Class cost: $50   \n\nMin students: 8   \n\nMax students: 20\n\nClass Dates: Saturday\, October 14th\n\nTime: 10am-2pm\n\nLocation: Hendersonville Theatre Main Stage\n\nMust be 18+ to attend. The last day to receive a full refund is September 28\, 2023.  After September 28\, 2023\, no refund will be issued. \n\nAdvance registration is required. Registration deadline is Wednesday\, October 11th at 5 pm. \n\nDue to the time of day\, feel free to bring some non-disruptive snacks and a water bottle.\n\n\n\n\n\nNeed-based scholarships are available upon application. Click here to apply. \n\n\n\n\n\nClass Description:\n\nDo you feel like auditions are scary or overwhelming? Have you gone to several\, but never gotten cast in a show? SO MUCH goes into the decisions directors make in the casting room. Let us help you get a leg up. \n\nIn this workshop\, you will learn how to put your best foot forward\, be the most prepared one in the room\, and make dynamic and interesting choices that will make a lasting impression. This class will be rooted in the fundamental teachings of Michael Shurtleff's book\, Audition. We will take his lessons and apply them to cold readings and monologues* during the workshop. By the end of our time\, we hope that you will feel more confident\, creative and assured when you walk into your next audition. \n\n*If you have an audition monologue or have one you have been considering\, please feel free to bring it\, along with a copy for the instructor. We will talk about how to cut a monologue for time without losing the meat of the piece. We will also talk about pairing monologues with songs for auditions.
X-ALT-DESC;FMTTYPE=text/html:<div style="text-align:center">\n<div>\n<p>Class cost:&nbsp\;$50&nbsp\;&nbsp\;&nbsp\;</p>\n\n<p>Min students:&nbsp\;8&nbsp\;&nbsp\;&nbsp\;</p>\n\n<p>Max students:&nbsp\;20</p>\n\n<p>Class Dates:&nbsp\;Saturday\, October 14th</p>\n\n<p>Time:&nbsp\;10am-2pm</p>\n\n<p>Location:&nbsp\;Hendersonville Theatre Main Stage</p>\n\n<p>Must be 18+ to attend. The last day to receive a full refund is September 28\, 2023.&nbsp\; After September 28\, 2023\, no refund will be issued.&nbsp\;</p>\n\n<p>Advance registration is required. Registration deadline is Wednesday\, October 11th at 5 pm.&nbsp\;</p>\n\n<p>Due to the time of day\, feel free to bring some non-disruptive snacks and a water bottle.</p>\n</div>\n</div>\n\n<div style="text-align:center">\n<div>\n<p>Need-based scholarships&nbsp\;are available upon application.&nbsp\;<a href="https://docs.google.com/forms/d/e/1FAIpQLSdOdMaPKa0qSTu1ZmNZIyQjL-FoPbE0sxNYlPv2D80WKSEqfg/viewform?usp=sf_link" style="box-sizing: border-box\; background-color: transparent\; transition: all 0.1s ease-in 0s\; text-decoration-line: none\; color: rgb(2\, 153\, 70)\; box-shadow: none\;">Click here to apply.&nbsp\;</a></p>\n</div>\n</div>\n\n<div>\n<div>\n<h3>Class Description:</h3>\n\n<p>Do you feel like auditions are scary or overwhelming? Have you gone to several\, but never gotten cast in a show? SO MUCH goes into the decisions directors make in the casting room. Let us help you get a leg up.&nbsp\;</p>\n\n<p>In this workshop\, you will learn how to put your best foot forward\, be the most prepared one in the room\, and make dynamic and interesting choices that will make a lasting impression. This class will be rooted in the fundamental teachings of Michael Shurtleff&rsquo\;s book\,&nbsp\;<em>Audition</em>. We will take his lessons and apply them to cold readings and monologues* during the workshop. By the end of our time\, we hope that you will feel more confident\, creative and assured when you walk into your next audition.&nbsp\;</p>\n\n<p>*If you have an audition monologue or have one you have been considering\, please feel free to bring it\,&nbsp\;along with a copy&nbsp\;for the instructor. We will talk about how to cut a monologue for time without losing the meat of the piece. We will also talk about pairing monologues with songs for auditions.&nbsp\;</p>\n</div>\n</div>\n
LOCATION:Hendersonville Theatre 229 S. Washington Street Hendersonville\, NC 28739
UID:e.2975.6175
SEQUENCE:3
DTSTAMP:20260419T144056Z
URL:https://business.hendersoncountychamber.org/events/details/adult-audition-workshop-6175
END:VEVENT

END:VCALENDAR
