BEGIN:VCALENDAR
VERSION:2.0
PRODID:-//ChamberMaster//Event Calendar 2.0//EN
METHOD:PUBLISH
X-PUBLISHED-TTL:P3D
REFRESH-INTERVAL:P3D
CALSCALE:GREGORIAN
BEGIN:VEVENT
DTSTART:20230908T120000Z
DTEND:20230908T130000Z
X-MICROSOFT-CDO-ALLDAYEVENT:FALSE
SUMMARY:AM Power Hour
DESCRIPTION:Enjoy a more productive day by meeting prospective customers at the start of your day. You may find a strong referral source\, a new vendor\, the perfect client\, or simply get a foot in the door for connecting again later at another Chamber event. AM Power Hour is great if you are an early-bird or can't make our after-hours networking events.\n\n\n\nThank you to We Sell WNC\, for being a Presenting Sponsor of the 2023 AM Power Hours!\n\n\n\nSeptember is Hosted by Mountain Credit Union!
X-ALT-DESC;FMTTYPE=text/html:<span style="font-size:14px\;"><span style="font-family:arial\;"><span style="color: rgb(77\, 77\, 77)\;">Enjoy a more productive day by meeting prospective customers at the start of your day. You may find a strong referral source\, a new vendor\, the perfect client\, or simply get a foot in the door for connecting again later at another Chamber event. AM Power Hour is great if you are an early-bird or can't make our after-hours networking events.</span></span></span><br style="color: rgb(77\, 77\, 77)\; font-family: Lato\, sans-serif\; font-size: 12px\;">\n<br>\nThank you to We Sell WNC\, for being a Presenting Sponsor of the 2023 AM Power Hours!<br>\n<br>\nSeptember is Hosted by <a href="https://www.mountaincu.org/">Mountain Credit Union</a>!<br style="color: rgb(77\, 77\, 77)\; font-family: Lato\, sans-serif\; font-size: 12px\;">\n<br>\n&nbsp\;
LOCATION:Mountain Credit Union | 3270 Hendersonville Rd\, Fletcher
UID:e.2975.5853
SEQUENCE:3
DTSTAMP:20260419T162522Z
URL:https://business.hendersoncountychamber.org/events/details/am-power-hour-5853
END:VEVENT

END:VCALENDAR
