BEGIN:VCALENDAR
VERSION:2.0
PRODID:-//ChamberMaster//Event Calendar 2.0//EN
METHOD:PUBLISH
X-PUBLISHED-TTL:P3D
REFRESH-INTERVAL:P3D
CALSCALE:GREGORIAN
BEGIN:VEVENT
DTSTART:20230526T233000Z
DTEND:20230527T013000Z
X-MICROSOFT-CDO-ALLDAYEVENT:FALSE
SUMMARY:Amanda Anne Platt & the Honeycutters
DESCRIPTION:Hendersonville Theatre proudly presents Asheville Americana band\, Amanda Anne Platt & The Honeycutters as May's intimate Hometown Sound concert. The band's nuanced music brings insight and wit to the stories Platt tells through songwriting. Lyrically driven\, the band's country roots music often inspires introspection\, whether it be about life on the road\, heartache or hope. There is an empathetic and charming wit ingrained in Platt's songwriting. She has a knack for accessing a deep well of emotion and applying it to her story-telling\, whether she is writing from her own experiences or immersing herself into the melody of emotions in another person's life.\n\nPerforming along with Platt\, The Honeycutters are Matt Smith (pedal steel and electric guitars)\, Kevin Williams (keys/vocals)\, Rick Cooper (bass/vocals)\, and Evan Martin (drums/vocals). The band is currently on tour supporting their sixth studio album   "The Devil and the Deep Blue Sea"   released 2/25/2022 on Organic Records.
X-ALT-DESC;FMTTYPE=text/html:<p>Hendersonville Theatre proudly presents Asheville Americana band\,<a href="https://www.honeycutters.com/" style="box-sizing: border-box\; background-color: transparent\; transition: all 0.1s ease-in 0s\; text-decoration-line: none\; color: rgb(2\, 153\, 70)\; box-shadow: none\;">&nbsp\;Amanda Anne&nbsp\;</a><a href="https://www.honeycutters.com/" style="box-sizing: border-box\; background-color: transparent\; transition: all 0.1s ease-in 0s\; text-decoration-line: none\; color: rgb(2\, 153\, 70)\; box-shadow: none\;">Platt &amp\; The Honeycutters</a>&nbsp\;as May&rsquo\;s intimate Hometown Sound concert. The band&rsquo\;s nuanced music brings insight and wit to the stories Platt tells through songwriting. Lyrically driven\, the band&rsquo\;s country roots music often inspires introspection\, whether it be about life on the road\, heartache or hope. There is an empathetic and charming wit ingrained in Platt&rsquo\;s songwriting. She has a knack for accessing a deep well of emotion and applying it to her story-telling\, whether she is writing from her own experiences or immersing herself into the melody of emotions in another person&rsquo\;s life.</p>\n\n<p>Performing along with Platt\, The Honeycutters are Matt Smith (pedal steel and electric guitars)\, Kevin Williams (keys/vocals)\, Rick Cooper (bass/vocals)\, and Evan Martin (drums/vocals). The band is currently on tour supporting their sixth studio album &ndash\; &ldquo\;The Devil and the Deep Blue Sea&rdquo\; &ndash\; released 2/25/2022 on Organic Records.</p>\n
LOCATION:Hendersonville Theatre 229 S. Washington St Hendersonville\, NC 28739
UID:e.2975.5544
SEQUENCE:3
DTSTAMP:20260422T091102Z
URL:https://business.hendersoncountychamber.org/events/details/amanda-anne-platt-the-honeycutters-5544
END:VEVENT

END:VCALENDAR
