BEGIN:VCALENDAR
VERSION:2.0
PRODID:-//ChamberMaster//Event Calendar 2.0//EN
METHOD:PUBLISH
X-PUBLISHED-TTL:P3D
REFRESH-INTERVAL:P3D
CALSCALE:GREGORIAN
BEGIN:VEVENT
DTSTART:20230520T190000Z
DTEND:20230520T210000Z
X-MICROSOFT-CDO-ALLDAYEVENT:FALSE
SUMMARY:An Improper Royal Tea Murder
DESCRIPTION:Presented by Murder Mystery for Hire in association Hendersonville Theatre\n\n \n\nIt's time for the Queen's Palace Party and not everyone will be making it out alive!!!\n\nJoin us on Saturday\, May 20 at 3 pm or Sunday\, May 21 at 3 pm for an interactive murder mystery theatre with a complimentary Royal Tea included.\n\n \n\nThe Lord Chamberlain is commanded by Her Majesty to invite You to the Palace Garden Tea \n\nEach summer Her Majesty hosts the Palace Garden Tea. This year an UNinvited guest has eluded Palace Security\, and the arrival is causing panic! As the mystery unravels\, we find the Royals worried about the intruder and the staff with something much more important on their minds! MURDER!!! The suspects are lined up WHO DONE IT? Could it have been our beloved Queen? Her American nephew? The Queen's Escort? The Cook? The Maid? The Housekeeper? or perhaps The Inspector\, himself? YOU identify the culprit and YOU solve the crime!\n\n\n\nWritten and directed by Jimmy Ferraro\n\nApproximate Run Time: 2 hour\n\nRating: PG   some material may not be suitable for children.
X-ALT-DESC;FMTTYPE=text/html:<div>Presented by Murder Mystery for Hire in association Hendersonville Theatre<br />\n&nbsp\;</div>\n\n<div>It&rsquo\;s time for the Queen&rsquo\;s Palace Party&hellip\;and not everyone will be making it out alive!!!</div>\n\n<div>Join us on Saturday\, May 20 at 3 pm or Sunday\, May 21 at 3 pm for an interactive murder mystery theatre with a complimentary Royal Tea included.<br />\n&nbsp\;</div>\n\n<div>The Lord Chamberlain is commanded by Her Majesty to invite You to the Palace Garden Tea&hellip\;</div>\n\n<div>Each summer Her Majesty hosts the Palace Garden Tea. This year an UNinvited guest has eluded Palace Security\, and the arrival is causing panic! As the mystery unravels\, we find the Royals worried about the intruder and the staff with something much more important on their minds! MURDER!!! The suspects are lined up&hellip\;WHO DONE IT? Could it have been our beloved Queen? Her American nephew? The Queen&rsquo\;s Escort? The Cook? The Maid? The Housekeeper? or perhaps The Inspector\, himself? YOU identify the culprit and YOU solve the crime!</div>\n\n<div><br />\nWritten and directed by Jimmy Ferraro</div>\n\n<div>Approximate Run Time: 2 hour<br />\nRating: PG &mdash\; some material may not be suitable for children.&nbsp\;</div>\n
LOCATION:Hendersonville Theatre 229 S. Washington Street Hendersonville\, NC 28739
UID:e.2975.5538
SEQUENCE:3
DTSTAMP:20260422T090251Z
URL:https://business.hendersoncountychamber.org/events/details/an-improper-royal-tea-murder-5538
END:VEVENT

END:VCALENDAR
