BEGIN:VCALENDAR
VERSION:2.0
PRODID:-//ChamberMaster//Event Calendar 2.0//EN
METHOD:PUBLISH
X-PUBLISHED-TTL:P3D
REFRESH-INTERVAL:P3D
CALSCALE:GREGORIAN
BEGIN:VEVENT
DTSTART:20230119T133000Z
DTEND:20230119T143000Z
X-MICROSOFT-CDO-ALLDAYEVENT:FALSE
SUMMARY:ATHENA Leadership Sub-committee Meeting
DESCRIPTION:This sub-committee meets to plan the programs surrounding the ATHENA Committee Leadership Programs.
X-ALT-DESC;FMTTYPE=text/html:This sub-committee meets to plan the programs surrounding the ATHENA Committee Leadership Programs.
LOCATION:Henderson County Chamber of Commerce 204 Kanuga Road\, Hendersonville Zoom Access Available https://us02web.zoom.us/j/87154898716?pwd=MU1Fc0wzMkZvT2QxSUcwM1RBY2M5dz09
UID:e.2975.5303
SEQUENCE:3
DTSTAMP:20260422T153257Z
URL:https://business.hendersoncountychamber.org/events/details/athena-leadership-sub-committee-meeting-5303
END:VEVENT

END:VCALENDAR
