BEGIN:VCALENDAR
VERSION:2.0
PRODID:-//ChamberMaster//Event Calendar 2.0//EN
METHOD:PUBLISH
X-PUBLISHED-TTL:P3D
REFRESH-INTERVAL:P3D
CALSCALE:GREGORIAN
BEGIN:VEVENT
DTSTART:20231105T190000Z
DTEND:20231105T210000Z
X-MICROSOFT-CDO-ALLDAYEVENT:FALSE
SUMMARY:Audition Workshop for Children
DESCRIPTION:Class cost: $30 \n\nMin students: 5   \n\nMax students: 14\n\nClass Dates: Sunday\, November 5\, 2023\n\nTime: 2 pm to 4 pm\n\nAges: 8-12 (grades 3-7)\n\nThe last day to receive a full refund is October 5\, 2023.  After October 5\, 2023\, no refund will be issued. \n\nAdvance registration is required. Registration deadline is Friday\, November 3 at 5 pm.\n\n\n\n\n\nNeed-based scholarships are available upon application. Click here to apply. \n\n\n\n\n\nClass Description:\n\nThis audition workshop is designed for young actors who want to learn to audition or improve their auditioning skills. This workshop will take participants step-by-step through most theatre's audition process and give young actors pointers to make the whole experience more relaxing and familiar. The workshop will cover techniques for better auditioning\, including theatre etiquette\, what to bring to an audition\, how to make a great and memorable impression\, cold reading skills\, and how to find acting opportunities in our area. All actors\, regardless of experience\, ages 8 to 12\, are eligible to attend.\n\nParticipants will have multiple opportunities to get up and perform short scenes during the workshop\, as well as break off into groups. Actors need to come prepared for a high-energy\, action-filled afternoon.
X-ALT-DESC;FMTTYPE=text/html:<div style="text-align:center">\n<div>\n<p>Class cost:&nbsp\;$30&nbsp\;</p>\n\n<p>Min students:&nbsp\;5&nbsp\;&nbsp\;&nbsp\;</p>\n\n<p>Max students:&nbsp\;14</p>\n\n<p>Class Dates:&nbsp\;Sunday\, November 5\, 2023</p>\n\n<p>Time:&nbsp\;2 pm to 4 pm</p>\n\n<p>Ages:&nbsp\;8-12 (grades 3-7)</p>\n\n<p>The last day to receive a full refund is October 5\, 2023.&nbsp\; After October 5\, 2023\, no refund will be issued.&nbsp\;</p>\n\n<p>Advance registration is required. Registration deadline is Friday\, November 3 at 5 pm.</p>\n</div>\n</div>\n\n<div style="text-align:center">\n<div>\n<p>Need-based scholarships&nbsp\;are available upon application.&nbsp\;<a href="https://docs.google.com/forms/d/e/1FAIpQLSdOdMaPKa0qSTu1ZmNZIyQjL-FoPbE0sxNYlPv2D80WKSEqfg/viewform?usp=sf_link" style="box-sizing: border-box\; background-color: transparent\; transition: all 0.1s ease-in 0s\; text-decoration-line: none\; color: rgb(2\, 153\, 70)\; box-shadow: none\;">Click here to apply.&nbsp\;</a></p>\n</div>\n</div>\n\n<div>\n<div>\n<h3>Class Description:</h3>\n\n<p>This audition workshop is designed&nbsp\;for young actors who want to learn to audition or improve their auditioning skills. This workshop will take participants step-by-step through most theatre&rsquo\;s audition process and give young actors pointers to make the whole experience more relaxing and familiar. The workshop will cover techniques for better auditioning\, including theatre etiquette\, what to bring to an audition\, how to make a great and memorable impression\, cold reading skills\, and how to find acting opportunities in our area. All actors\, regardless of experience\, ages 8 to 12\, are eligible to attend.</p>\n\n<p>Participants will have multiple opportunities to get up and perform short scenes during the workshop\, as well as break off into groups. Actors need to come prepared for a high-energy\, action-filled afternoon.&nbsp\;</p>\n</div>\n</div>\n
LOCATION:Hendersonville Theatre 229 S. Washington Street Hendersonville\, NC 28739
UID:e.2975.6174
SEQUENCE:3
DTSTAMP:20260419T130541Z
URL:https://business.hendersoncountychamber.org/events/details/audition-workshop-for-children-6174
END:VEVENT

END:VCALENDAR
