BEGIN:VCALENDAR
VERSION:2.0
PRODID:-//ChamberMaster//Event Calendar 2.0//EN
METHOD:PUBLISH
X-PUBLISHED-TTL:P3D
REFRESH-INTERVAL:P3D
CALSCALE:GREGORIAN
BEGIN:VEVENT
DTSTART:20231028T163000Z
DTEND:20231028T203000Z
X-MICROSOFT-CDO-ALLDAYEVENT:FALSE
SUMMARY:Audition Workshop for Teens
DESCRIPTION:Class cost: $50  \n\nMin students: 8   \n\nMax students: 30\n\nClass Dates: Saturday\, October 28\, 2023\n\nTime: 12:30 pm to 4:30 pm\n\nAges: 13-18 (middle or high school student)\n\nThe last day to receive a full refund is September 28\, 2023.  After September 28\, 2023\, no refund will be issued. \n\nAdvance registration is required. Registration deadline is Friday\, October 27 at 5 pm. \n\n\n\n\n\nNeed-based scholarships are available upon application. Click here to apply. \n\n\n\n\n\nClass Description:\n\nAre you ready to hit the stage? This audition workshop is designed for teens who want to improve their auditioning and overall performing skills. This workshop will take you step-by-step through the audition process and give you pointers to make the whole experience more relaxing and familiar. The workshop will cover techniques for better auditioning\, including cold reading skills\, breaking down scenes\, picking and preparing a monologue and a song\, how to get a headshot and a resume\, and how to find acting opportunities in our area. All actors\, regardless of experience\, ages 13 to 18\, are eligible to attend.\n\nParticipants will have multiple opportunities to get up and perform during the workshop and will break off into groups several times during the day. Actors need to come prepared for a high-energy\, action-filled afternoon.
X-ALT-DESC;FMTTYPE=text/html:<div style="text-align:center">\n<div>\n<p>Class cost:&nbsp\;$50&nbsp\;&nbsp\;</p>\n\n<p>Min students:&nbsp\;8&nbsp\;&nbsp\;&nbsp\;</p>\n\n<p>Max students:&nbsp\;30</p>\n\n<p>Class Dates:&nbsp\;Saturday\, October 28\, 2023</p>\n\n<p>Time:&nbsp\;12:30 pm to 4:30 pm</p>\n\n<p>Ages:&nbsp\;13-18 (middle or high school student)</p>\n\n<p>The last day to receive a full refund is September 28\, 2023.&nbsp\; After September 28\, 2023\, no refund will be issued.&nbsp\;</p>\n\n<p><span style="color:var( --e-global-color-text )">Advance registration is required. Registration deadline is Friday\, October 27 at 5 pm.&nbsp\;</span></p>\n</div>\n</div>\n\n<div style="text-align:center">\n<div>\n<p>Need-based scholarships&nbsp\;are available upon application.&nbsp\;<a href="https://docs.google.com/forms/d/e/1FAIpQLSdOdMaPKa0qSTu1ZmNZIyQjL-FoPbE0sxNYlPv2D80WKSEqfg/viewform?usp=sf_link" style="box-sizing: border-box\; background-color: transparent\; transition: all 0.1s ease-in 0s\; text-decoration-line: none\; color: rgb(2\, 153\, 70)\; box-shadow: none\;">Click here to apply.&nbsp\;</a></p>\n</div>\n</div>\n\n<div>\n<div>\n<h3>Class Description:</h3>\n\n<p>Are you ready to hit the stage? This audition workshop is designed&nbsp\;for teens who want to improve their auditioning and overall performing skills. This workshop will take you step-by-step through the audition process and give you pointers to make the whole experience more relaxing and familiar. The workshop will cover techniques for better auditioning\, including cold reading skills\, breaking down scenes\, picking and preparing a monologue and a song\, how to get a headshot and a resume\, and how to find acting opportunities in our area. All actors\, regardless of experience\, ages 13 to 18\, are eligible to attend.</p>\n\n<p>Participants will have multiple opportunities to get up and perform during the workshop and will break off into groups several times during the day. Actors need to come prepared for a high-energy\, action-filled afternoon.&nbsp\;</p>\n</div>\n</div>\n
LOCATION:Hendersonvillle Theatre 229 S. Washington Street Hendersonville\, NC 28739
UID:e.2975.6173
SEQUENCE:3
DTSTAMP:20260419T162548Z
URL:https://business.hendersoncountychamber.org/events/details/audition-workshop-for-teens-6173
END:VEVENT

END:VCALENDAR
