BEGIN:VCALENDAR
VERSION:2.0
PRODID:-//ChamberMaster//Event Calendar 2.0//EN
METHOD:PUBLISH
X-PUBLISHED-TTL:P3D
REFRESH-INTERVAL:P3D
CALSCALE:GREGORIAN
BEGIN:VEVENT
DTSTART:20221006T220000Z
DTEND:20221007T010000Z
X-MICROSOFT-CDO-ALLDAYEVENT:FALSE
SUMMARY:BBBS A Taste of the Vineyard
DESCRIPTION:Big Brothers Big Sisters of Henderson County's A TASTE OF THE\n\nVINEYARD will be held on Thursday\, October 6 at Point Lookout Vineyards\, 408 Appleola\n\nRoad\, Hendersonville.\n\nWith delicious local wines and breathtaking views\, the evening will be a delightful experience\n\nthat benefits the children of Henderson County. All proceeds go toward Big Brothers Big Sisters\n\nof Henderson County's mentoring programs.\n\nThe evening begins at 6:00 p.m. and features delicious food by Amanda's Catering and a\n\ncomplimentary first glass of wine. A cash bar is available throughout the event. Entertainment\n\nwill be provided by Granny's Mason Jar. A silent auction features getaway vacations\, art\,\n\nservices and much more. The auction is now live online and will be closed at the event at\n\n8:00pm.\n\n"Please help support our mission of igniting the power and promise in youth by participating in\n\nour event through attending the event\, bidding on auction items\, or sponsoring the event" said\n\nErin Erickson\, program coordinator of Big Brothers Big Sisters of Henderson County. "The\n\nmoney raised enables us to 'ignite potential' in the 85 young people we serve."\n\nTickets are $75 each and can be purchased online through the Big Brothers Big Sisters of\n\nWestern North Carolina website.\n\nFor more information call 828-448-9843 or e-mail Erin at erine@bbbswnc.org.
X-ALT-DESC;FMTTYPE=text/html:&nbsp\;Big Brothers Big Sisters of Henderson County&rsquo\;s A TASTE OF THE<br />\nVINEYARD will be held on Thursday\, October 6 at Point Lookout Vineyards\, 408 Appleola<br />\nRoad\, Hendersonville.<br />\nWith delicious local wines and breathtaking views\, the evening will be a delightful experience<br />\nthat benefits the children of Henderson County. All proceeds go toward Big Brothers Big Sisters<br />\nof Henderson County&rsquo\;s mentoring programs.<br />\nThe evening begins at 6:00 p.m. and features delicious food by Amanda&rsquo\;s Catering and a<br />\ncomplimentary first glass of wine. A cash bar is available throughout the event. Entertainment<br />\nwill be provided by Granny&rsquo\;s Mason Jar. A silent auction features getaway vacations\, art\,<br />\nservices and much more. The auction is now live online and will be closed at the event at<br />\n8:00pm.<br />\n&ldquo\;Please help support our mission of igniting the power and promise in youth by participating in<br />\nour event through attending the event\, bidding on auction items\, or sponsoring the event&rdquo\; said<br />\nErin Erickson\, program coordinator of Big Brothers Big Sisters of Henderson County. &ldquo\;The<br />\nmoney raised enables us to &lsquo\;ignite potential&rsquo\; in the 85 young people we serve.&rdquo\;<br />\nTickets are $75 each and can be purchased online through the Big Brothers Big Sisters of<br />\nWestern North Carolina website.<br />\nFor more information call 828-448-9843 or e-mail Erin at erine@bbbswnc.org.
LOCATION:Point Lookout Vineyards
UID:e.2975.4587
SEQUENCE:3
DTSTAMP:20260422T220819Z
URL:https://business.hendersoncountychamber.org/events/details/bbbs-a-taste-of-the-vineyard-4587
END:VEVENT

END:VCALENDAR
