BEGIN:VCALENDAR
VERSION:2.0
PRODID:-//ChamberMaster//Event Calendar 2.0//EN
METHOD:PUBLISH
X-PUBLISHED-TTL:P3D
REFRESH-INTERVAL:P3D
CALSCALE:GREGORIAN
BEGIN:VEVENT
DTSTART:20230705T220000Z
DTEND:20230705T230000Z
X-MICROSOFT-CDO-ALLDAYEVENT:FALSE
SUMMARY:Beginning Adult Jazz/Musical Theatre Dance
DESCRIPTION:Get ready to hit the stage with our Musical Theater inspired dance class! In this class\, you'll learn basic jazz techniques that are essential for any aspiring stage performer. We'll cover iconic steps that you've seen in classic musical theater productions\, as well as help you fine-tune your basic technique to help you become a better dancer.\n\n\n\n\nThis class is perfect for anyone looking to take their dance skills to the next level\, whether you're a beginner or a seasoned pro. You'll leave each class feeling energized and confident in your abilities. So\, whether you're dreaming of starring in the next Broadway hit or just want to improve your dance skills\, this class is the perfect opportunity to learn\, grow\, and have fun.
X-ALT-DESC;FMTTYPE=text/html:<div style="text-align:initial">\n<div style="text-align:var(--text-align)">\n<div>\n<div>\n<p>Get ready to hit the stage with our Musical Theater inspired dance class! In this class\, you&rsquo\;ll learn basic jazz techniques that are essential for any aspiring stage performer. We&rsquo\;ll cover iconic steps that you&rsquo\;ve seen in classic musical theater productions\, as well as help you fine-tune your basic technique to help you become a better dancer.</p>\n</div>\n</div>\n\n<div>\n<p>This class is perfect for anyone looking to take their dance skills to the next level\, whether you&rsquo\;re a beginner or a seasoned pro. You&rsquo\;ll leave each class feeling energized and confident in your abilities. So\, whether you&rsquo\;re dreaming of starring in the next Broadway hit or just want to improve your dance skills\, this class is the perfect opportunity to learn\, grow\, and have fun.&nbsp\;</p>\n</div>\n</div>\n</div>\n
LOCATION:Whitmire Activity Center\, 310 Lily Pond Dr\, Hendersonville\, NC 28739
UID:e.2975.5789
SEQUENCE:3
DTSTAMP:20260419T201912Z
URL:https://business.hendersoncountychamber.org/events/details/beginning-adult-jazz-musical-theatre-dance-07-05-2023-5789
END:VEVENT

END:VCALENDAR
