BEGIN:VCALENDAR
VERSION:2.0
PRODID:-//ChamberMaster//Event Calendar 2.0//EN
METHOD:PUBLISH
X-PUBLISHED-TTL:P3D
REFRESH-INTERVAL:P3D
CALSCALE:GREGORIAN
BEGIN:VEVENT
DTSTART:20231008T120000Z
DTEND:20231008T160000Z
X-MICROSOFT-CDO-ALLDAYEVENT:FALSE
SUMMARY:Black Bear Half Marathon & 8K
DESCRIPTION:The 4th annual Black Bear Half Marathon & 8k presented by Hunter Subaru is back again for 2023 and is now USATF sanctioned!\n\n\n\nThe in-person half marathon and 8k both wind through Hendersonville\, NC on Sunday\, Oct. 8\, 2023. There is also a Virtual Half Marathon and 8k running option for runners not able to attend the in-person event.\n\n\n\nThe Black Bear Half and 8k both offer a scenic\, mostly flat course along the Oklawaha Greenway. The Half Marathon has less than 400 feet of elevation gain so you won't want to miss it!
X-ALT-DESC;FMTTYPE=text/html:<span style="color:#000000"><span style="font-family:arial\,helvetica\,sans-serif"><span style="font-size:18px"><span style="background-color:rgb(255\, 255\, 255)">The 4th annual Black Bear Half Marathon &amp\; 8k presented by Hunter Subaru is back again for 2023 and is now USATF sanctioned!</span></span><br />\n<br />\n<span style="font-size:18px">The in-person half marathon and 8k both wind through Hendersonville\, NC on Sunday\, Oct. 8\, 2023. There is also a Virtual Half Marathon and 8k running option for runners not able to attend the in-person event.</span><br />\n<br />\n<span style="font-size:18px">The Black Bear Half and 8k both offer a scenic\, mostly flat course along the Oklawaha Greenway. The Half Marathon has less than 400 feet of elevation gain so you won&rsquo\;t want to miss it!</span></span></span>
LOCATION:Jackson Park\, 801 4th Ave E\, Hendersonville\, NC 28792
UID:e.2975.4546
SEQUENCE:3
DTSTAMP:20260419T144016Z
URL:https://business.hendersoncountychamber.org/events/details/black-bear-half-marathon-8k-4546
END:VEVENT

END:VCALENDAR
