BEGIN:VCALENDAR
VERSION:2.0
PRODID:-//ChamberMaster//Event Calendar 2.0//EN
METHOD:PUBLISH
X-PUBLISHED-TTL:P3D
REFRESH-INTERVAL:P3D
CALSCALE:GREGORIAN
BEGIN:VEVENT
DTSTART:20230508T213000Z
DTEND:20230508T230000Z
X-MICROSOFT-CDO-ALLDAYEVENT:FALSE
SUMMARY:BR Growth and Rising Star Awards and SBC Business Plan Contest Reception
DESCRIPTION:
X-ALT-DESC;FMTTYPE=text/html:
LOCATION:Southern Appalachian Brewing | 822 Locust Street\, Hendersonville
UID:e.2975.5530
SEQUENCE:3
DTSTAMP:20260422T092532Z
URL:https://business.hendersoncountychamber.org/events/details/br-growth-and-rising-star-awards-and-sbc-business-plan-contest-reception-5530
END:VEVENT

END:VCALENDAR
