BEGIN:VCALENDAR
VERSION:2.0
PRODID:-//ChamberMaster//Event Calendar 2.0//EN
METHOD:PUBLISH
X-PUBLISHED-TTL:P3D
REFRESH-INTERVAL:P3D
CALSCALE:GREGORIAN
BEGIN:VEVENT
DTSTART:20221027T180000Z
DTEND:20221027T200000Z
X-MICROSOFT-CDO-ALLDAYEVENT:FALSE
SUMMARY:Brookdale of Hendersonville & McIntyre Law - Take Charge of your Future
DESCRIPTION:McIntyre Law Firm will be at Brookdale of Hendersonville presenting answering questions on Estate Planning\, Living Wills\, Power of Attorney\, Trusts and much more! This is a free event to the public\, with refreshments served.  Please R.S.V.P to nancy.medlin@brookdale.com or 828-692-1911.
X-ALT-DESC;FMTTYPE=text/html:McIntyre Law Firm will be at Brookdale of Hendersonville presenting answering questions on Estate Planning\, Living Wills\, Power of Attorney\, Trusts and much more! This is a free event to the public\, with refreshments served.&nbsp\; Please R.S.V.P to nancy.medlin@brookdale.com or 828-692-1911.
LOCATION:Brookdale of Hendersonville 2601 Chimney Rock Road Hendersonville\, NC 28792
UID:e.2975.4607
SEQUENCE:3
DTSTAMP:20260422T203232Z
URL:https://business.hendersoncountychamber.org/events/details/brookdale-of-hendersonville-mcintyre-law-take-charge-of-your-future-4607
END:VEVENT

END:VCALENDAR
