BEGIN:VCALENDAR
VERSION:2.0
PRODID:-//ChamberMaster//Event Calendar 2.0//EN
METHOD:PUBLISH
X-PUBLISHED-TTL:P3D
REFRESH-INTERVAL:P3D
CALSCALE:GREGORIAN
BEGIN:VEVENT
DTSTART:20231119T003000Z
DTEND:20231119T023000Z
X-MICROSOFT-CDO-ALLDAYEVENT:FALSE
SUMMARY:Buddy K Big Band
DESCRIPTION:Hendersonville Theatre proudly presents the Buddy K Band as the final intimate Hometown Sound concert of 2023. If you love classical standards as well as the music of Les Brown\, Count Basie\, Glenn Miller and Tommy Dorsey\, you will want to get your tickets for this magical evening of big band swing and jazz music. Formed in 1983\, The Buddy K Big Band is the longest-running big band in Western North Carolina. Composed of 19 talented musicians that love the big band sounds of Count Basie\, Glenn Miller\, Duke Ellington\, Tommy Dorsey\, and other classic big bands\, the Buddy K Band has performed in many venues throughout the Southeast. The band plays such favorites as Moonlight Serenade\, In The Mood\, Moon River and Satin Doll\, just to name a few. A perfect kick-off to get into the mood for the holiday season!
X-ALT-DESC;FMTTYPE=text/html:<span style="color:rgb(35\, 31\, 32)\; font-family:arial\,sans-serif\; font-size:16px">Hendersonville Theatre proudly presents the Buddy K Band as the final intimate Hometown Sound concert of 2023. If you love classical standards as well as the music of Les Brown\, Count Basie\, Glenn Miller and Tommy Dorsey\, you will want to get your tickets for this magical evening of big band swing and jazz music. Formed in 1983\, The Buddy K Big Band is the longest-running big band in Western North Carolina. Composed of 19 talented musicians that love the big band sounds of Count Basie\, Glenn Miller\, Duke Ellington\, Tommy Dorsey\, and other classic big bands\, the Buddy K Band has performed in many venues throughout the Southeast. The band plays such favorites as Moonlight Serenade\, In The Mood\, Moon River and Satin Doll\, just to name a few. A perfect kick-off to get into the mood for the holiday season!&nbsp\;</span>
LOCATION:Hendersonville Theatre 229 S. Washington Street Hendersonville\, NC 28739
UID:e.2975.6203
SEQUENCE:3
DTSTAMP:20260419T144057Z
URL:https://business.hendersoncountychamber.org/events/details/buddy-k-big-band-6203
END:VEVENT

END:VCALENDAR
