BEGIN:VCALENDAR
VERSION:2.0
PRODID:-//ChamberMaster//Event Calendar 2.0//EN
METHOD:PUBLISH
X-PUBLISHED-TTL:P3D
REFRESH-INTERVAL:P3D
CALSCALE:GREGORIAN
BEGIN:VEVENT
DTSTART:20230824T213000Z
DTEND:20230824T230000Z
X-MICROSOFT-CDO-ALLDAYEVENT:FALSE
SUMMARY:Business After Hours
DESCRIPTION:Your Chance to Build Great Connections - You Don't Want to Miss This Event! \n\n \n\nBusiness After Hours is the Chamber's premier networking event and the best chance for your to make valuable connections to build your business - all while having a great time! \n\n \n\nWith fantastic food and beverages compliments of our host sponsor\, and the chance to win great door prizes - this event is the best combination of business and fun!\n\nThere is no cost to attend but registration is required.\n\n\n\nAugust is hosted by Saint Paul Vineyard's Appalachian Ridge! We'll have tastings of their cider that just won 1st Place Governor's Cup!\n\n\n\nWe'll have tasty treats from Foxy Otter Catering & Confections!
X-ALT-DESC;FMTTYPE=text/html:<div style="color: rgb(113\, 112\, 112)\; font-family: Helvetica\, Arial\, sans-serif\; font-size: 16px\; white-space: pre-wrap\; text-align: center\;"><span style="font-size: 20px\; color: rgb(0\, 110\, 109)\; font-weight: bold\;">Your Chance to Build Great Connections - You Don&#39\;t Want to Miss This Event! </span></div>\n\n<div style="color: rgb(113\, 112\, 112)\; font-family: Helvetica\, Arial\, sans-serif\; font-size: 16px\; white-space: pre-wrap\; text-align: center\;">&nbsp\;</div>\n\n<div style="color: rgb(113\, 112\, 112)\; font-family: Helvetica\, Arial\, sans-serif\; font-size: 16px\; white-space: pre-wrap\;"><span style="color: rgb(54\, 97\, 189)\;">Business After Hours is the Chamber&#39\;s premier networking event and the best chance for your to make valuable connections to build your business - all while having a great time! </span><br />\n&nbsp\;</div>\n\n<div style="color: rgb(113\, 112\, 112)\; font-family: Helvetica\, Arial\, sans-serif\; font-size: 16px\; white-space: pre-wrap\;"><span style="color: rgb(54\, 97\, 189)\;">With fantastic </span><span style="color: rgb(54\, 97\, 189)\;">food and beverages compliments of our host sponsor\, </span><span style="color: rgb(54\, 97\, 189)\;">and the chance to win great door prizes - this event is the best combination of business and fun!<br />\nThere is no cost to attend but registration is required.<br />\n<br />\nAugust is hosted by Saint Paul Vineyard&#39\;s Appalachian Ridge! We&#39\;ll have tastings of their cider that just won 1st Place Governor&#39\;s Cup!<br />\n<br />\nWe&#39\;ll have tasty treats from Foxy Otter Catering &amp\; Confections!</span><br />\n&nbsp\;</div>\n
LOCATION:Saint Paul Vineyard's Appalachian Ridge | 749 Chestnut Gap Rd\, Hendersonville
UID:e.2975.5849
SEQUENCE:3
DTSTAMP:20260419T181911Z
URL:https://business.hendersoncountychamber.org/events/details/business-after-hours-5849
END:VEVENT

END:VCALENDAR
