BEGIN:VCALENDAR
VERSION:2.0
PRODID:-//ChamberMaster//Event Calendar 2.0//EN
METHOD:PUBLISH
X-PUBLISHED-TTL:P3D
REFRESH-INTERVAL:P3D
CALSCALE:GREGORIAN
BEGIN:VEVENT
DTSTART:20231128T223000Z
DTEND:20231129T000000Z
X-MICROSOFT-CDO-ALLDAYEVENT:FALSE
SUMMARY:Business After Hours
DESCRIPTION:Your Chance to Build Great Connections - You Don't Want to Miss This Event! \n\n \n\nBusiness After Hours is the Chamber's premier networking event and the best chance for your to make valuable connections to build your business - all while having a great time! \n\n\n\nThis month\, we are proudly sponsored by both Hendersonville Toy Company and Hands On! Children's Museum!. You'll enjoy a chance to shop at the Hendersonville Toy Company Pop-Up Shop with toys\, books & games and be a kid again with a chance to play the toy & game demos. There will also be a special discount at the Pop-Up Shop just for attendees!\n\n\n\nWith fantastic food sponsored by our host\, we'll also have beverages compliments of our host and the chance to win great door prizes. This event is the best combination of business and fun!\n\n\n\nThere is no cost to attend but registration is required.
X-ALT-DESC;FMTTYPE=text/html:<div style="color: rgb(113\, 112\, 112)\; font-family: Helvetica\, Arial\, sans-serif\; font-size: 16px\; white-space: pre-wrap\; text-align: center\;"><span style="font-size: 20px\; color: rgb(0\, 110\, 109)\; font-weight: bold\;">Your Chance to Build Great Connections - You Don&#39\;t Want to Miss This Event! </span></div>\n\n<div style="color: rgb(113\, 112\, 112)\; font-family: Helvetica\, Arial\, sans-serif\; font-size: 16px\; white-space: pre-wrap\; text-align: center\;">&nbsp\;</div>\n\n<div style="color: rgb(113\, 112\, 112)\; font-family: Helvetica\, Arial\, sans-serif\; font-size: 16px\; white-space: pre-wrap\;"><span style="color: rgb(54\, 97\, 189)\;">Business After Hours is the Chamber&#39\;s premier networking event and the best chance for your to make valuable connections to build your business - all while having a great time! </span><br />\n<br />\n<span style="color: rgb(54\, 97\, 189)\;">This month\, we are proudly sponsored by both <a href="https://hendersonvilletoycompany.com/?fbclid=IwAR0r-ss-wqxtZIqLvgq6e8HF4rG9sNf7Z2nnY7iUnbVCTiBwwfofAkjc1Iw">Hendersonville Toy Company</a> and <a href="https://www.handsonwnc.org/">Hands On! Children&#39\;s Museum</a>!. <span style="font-family:helvetica\,sans-serif\;"><span style="font-size:12.0pt\;">You&#39\;ll enjoy a chance to shop at the Hendersonville Toy Company Pop-Up Shop with toys\, books &amp\; games and be a kid again with a chance to play the&nbsp\;toy &amp\; game demos. There will also be a special discount at the Pop-Up Shop just for attendees!</span></span><br />\n<br />\nWith fantastic food sponsored by our host\, we&#39\;ll also have beverages compliments of our host and</span><span style="color:#0000cc\;"><span style="font-family:times new roman\,serif\;"><span style="font-size:12.0pt\;"> </span></span></span><span style="color: rgb(54\, 97\, 189)\;">the chance to win great door prizes. This event is the best combination of business and fun!</span><br />\n<br />\n<span style="color: rgb(54\, 97\, 189)\;">There is no cost to attend but registration is required.</span></div>\n
LOCATION:Hands On! Children's Museum 318 N Main St\, Hendersonville\, NC
UID:e.2975.6185
SEQUENCE:3
DTSTAMP:20260419T130645Z
URL:https://business.hendersoncountychamber.org/events/details/business-after-hours-6185
END:VEVENT

END:VCALENDAR
