BEGIN:VCALENDAR
VERSION:2.0
PRODID:-//ChamberMaster//Event Calendar 2.0//EN
METHOD:PUBLISH
X-PUBLISHED-TTL:P3D
REFRESH-INTERVAL:P3D
CALSCALE:GREGORIAN
BEGIN:VEVENT
DTSTART:20230208T124500Z
DTEND:20230208T140000Z
X-MICROSOFT-CDO-ALLDAYEVENT:FALSE
SUMMARY:Business Morning Update
DESCRIPTION:This monthly event is co-sponsored with Blue Ridge Community College's Small Business Center\, the City of Hendersonville Main Street program\, and the Hendersonville Merchants & Business Association features several speakers on timely community events and issues affecting our business community. \n\n\n\nNetworking begins at 7:45 am with coffee and morning snacks. The program will begin at 8:00 am. \n\n\n\nThis month's program consist of guest from:\nThis month's program consist of guest from:\n\nKelli Stewart - Apprenticeship Coordinator - Apprenticeship Blue Ridge\n\nJulie Huneycutt - Director - Hope Coalition\n\nJames Frazier - Interim Plant Manager - Lassonde Pappas\n\n\n\n\n2023 Business Morning Updates are Presented by Southern Quality Company. \n\nOur February Sponsor is Hulsey Media.
X-ALT-DESC;FMTTYPE=text/html:<span style="color: rgb(77\, 77\, 77)\; font-family: Lato\, sans-serif\; font-size: 18px\; text-align: center\;"><span style="font-family:arial\;">This monthly event is co-sponsored with Blue Ridge Community College&#39\;s Small Business Center\, the City of Hendersonville Main Street program\, and the Hendersonville Merchants &amp\; Business Association features several speakers on timely community events and issues affecting our business community.&nbsp\;<br />\n<br />\nNetworking begins at 7:45 am with coffee and morning snacks. The program will begin at 8:00 am.&nbsp\;<br />\n<br />\nThis month&#39\;s program consist of guest from:</span></span>\n<div style="color: rgb(68\, 68\, 68)\; font-family: Calibri\, Helvetica\, Arial\, sans-serif\; font-size: 14px\; white-space: pre-wrap\; background-color: rgb(235\, 235\, 235)\; text-align: center\;"><span style="color: rgb(128\, 128\, 128)\; font-family: Arial\, Verdana\, Helvetica\, sans-serif\;">This month&#39\;s program consist of guest from:</span></div>\n\n<div style="color: rgb(68\, 68\, 68)\; font-family: Calibri\, Helvetica\, Arial\, sans-serif\; font-size: 14px\; white-space: pre-wrap\; background-color: rgb(235\, 235\, 235)\; text-align: center\;"><span style="color: rgb(128\, 128\, 128)\; font-family: Arial\, Verdana\, Helvetica\, sans-serif\;">Kelli Stewart - Apprenticeship Coordinator - </span><a data-link-type="web" href="https://www.blueridge.edu/programs-courses/apprenticeships/" rel="noopener noreferrer" style="color: rgb(128\, 128\, 128)\; font-family: Arial\, Verdana\, Helvetica\, sans-serif\;" target="_blank">Apprenticeship Blue Ridge</a></div>\n\n<div style="color: rgb(68\, 68\, 68)\; font-family: Calibri\, Helvetica\, Arial\, sans-serif\; font-size: 14px\; white-space: pre-wrap\; background-color: rgb(235\, 235\, 235)\; text-align: center\;"><span style="color: rgb(128\, 128\, 128)\; font-family: Arial\, Verdana\, Helvetica\, sans-serif\;">Julie Huneycutt - Director - </span><a data-link-type="web" href="https://elementsofhope.org/" rel="noopener noreferrer" style="color: rgb(128\, 128\, 128)\; font-family: Arial\, Verdana\, Helvetica\, sans-serif\;" target="_blank">Hope Coalition</a></div>\n\n<div style="color: rgb(68\, 68\, 68)\; font-family: Calibri\, Helvetica\, Arial\, sans-serif\; font-size: 14px\; white-space: pre-wrap\; background-color: rgb(235\, 235\, 235)\; text-align: center\;"><span style="color: rgb(128\, 128\, 128)\; font-family: Arial\, Verdana\, Helvetica\, sans-serif\;">James Frazier - Interim Plant Manager - </span><a data-link-type="web" href="https://lassondepappas.com/" rel="noopener noreferrer" style="color: rgb(128\, 128\, 128)\; font-family: Arial\, Verdana\, Helvetica\, sans-serif\;" target="_blank">Lassonde Pappas</a></div>\n<br />\n<br />\n<span style="font-size:18px\;"><span style="font-family:arial\;">2023 Business Morning Updates are Presented by <a href="https://www.southernquality.com/">Southern Quality Company</a>.&nbsp\;<br />\nOur February Sponsor is <a href="https://hulseymedia.com/">Hulsey Media</a>.&nbsp\;</span></span>
LOCATION:Elk's Lodge | 546 North Justice St\, Henderosnville
UID:e.2975.5216
SEQUENCE:3
DTSTAMP:20260422T142143Z
URL:https://business.hendersoncountychamber.org/events/details/business-morning-update-02-08-2023-5216
END:VEVENT

END:VCALENDAR
