BEGIN:VCALENDAR
VERSION:2.0
PRODID:-//ChamberMaster//Event Calendar 2.0//EN
METHOD:PUBLISH
X-PUBLISHED-TTL:P3D
REFRESH-INTERVAL:P3D
CALSCALE:GREGORIAN
BEGIN:VEVENT
DTSTART:20230412T114500Z
DTEND:20230412T130000Z
X-MICROSOFT-CDO-ALLDAYEVENT:FALSE
SUMMARY:Business Morning Update
DESCRIPTION:This monthly event is co-sponsored with Blue Ridge Community College's Small Business Center\, the City of Hendersonville Main Street program\, and the Hendersonville Merchants & Business Association features several speakers on timely community events and issues affecting our business community. \n\n\n\nThis month's program will be a little different\, with a panel about Economic Impact of Agribusiness in Henderson County! Our panelist are:\n\nMark Williams - Agri-Business Head\n\nKenny Barnwell - Blue Ridge Apple Growers\n\nKirby Johnson - Flavor First Growers & Packers\n\n\n\nApril's BMU is sponsored by the Hendersonville Merchants & Business Association.\n\n\n\n2023 Business Morning Updates are Presented by Southern Quality Company.
X-ALT-DESC;FMTTYPE=text/html:<span style="color: rgb(77\, 77\, 77)\; font-family: Lato\, sans-serif\; font-size: 18px\; text-align: center\;"><span style="font-family:arial\;">This monthly event is co-sponsored with Blue Ridge Community College&#39\;s Small Business Center\, the City of Hendersonville Main Street program\, and the Hendersonville Merchants &amp\; Business Association features several speakers on timely community events and issues affecting our business community.&nbsp\;<br />\n<br />\nThis month&#39\;s program will be a little different\, with a panel about Economic Impact of Agribusiness in Henderson County! Our panelist are:<br />\nMark Williams - Agri-Business Head<br />\nKenny Barnwell - Blue Ridge Apple Growers<br />\nKirby Johnson - Flavor First Growers &amp\; Packers<br />\n<br />\nApril&#39\;s BMU is sponsored by the Hendersonville Merchants &amp\; Business Association.</span></span><br />\n<br />\n<span style="font-size:18px\;"><span style="font-family:arial\;">2023 Business Morning Updates are Presented by <a href="https://www.southernquality.com/">Southern Quality Company</a>.&nbsp\;</span></span>
LOCATION:Elk's Lodge | 546 North Justice St\, Hendersonville
UID:e.2975.5218
SEQUENCE:3
DTSTAMP:20260422T093410Z
URL:https://business.hendersoncountychamber.org/events/details/business-morning-update-04-12-2023-5218
END:VEVENT

END:VCALENDAR
