BEGIN:VCALENDAR
VERSION:2.0
PRODID:-//ChamberMaster//Event Calendar 2.0//EN
METHOD:PUBLISH
X-PUBLISHED-TTL:P3D
REFRESH-INTERVAL:P3D
CALSCALE:GREGORIAN
BEGIN:VEVENT
DTSTART:20230712T114500Z
DTEND:20230712T130000Z
X-MICROSOFT-CDO-ALLDAYEVENT:FALSE
SUMMARY:Business Morning Update
DESCRIPTION:This monthly event is co-sponsored with Blue Ridge Community College's Small Business Center\, the City of Hendersonville Main Street program\, and the Hendersonville Merchants & Business Association features several speakers on timely community events and issues affecting our business community. \n\n\n\nThis month's program consist of guest from:\n\nAdventHealth Hendersonville - Brandon Nudd\, President/CEO\n\nNC Military Business Center - Joe Tew\, Director\n\nNC Apple Festival Speaker\n\n\n\n2023 Business Morning Updates are Presented by Southern Quality Company and Emceed by B2 Realty.
X-ALT-DESC;FMTTYPE=text/html:<span style="color: rgb(77\, 77\, 77)\; font-family: Lato\, sans-serif\; font-size: 18px\; text-align: center\;"><span style="font-family:arial\;">This monthly event is co-sponsored with Blue Ridge Community College&#39\;s Small Business Center\, the City of Hendersonville Main Street program\, and the Hendersonville Merchants &amp\; Business Association features several speakers on timely community events and issues affecting our business community.&nbsp\;<br />\n<br />\nThis month&#39\;s program consist of guest from:<br />\nAdventHealth Hendersonville - Brandon Nudd\, President/CEO<br />\nNC Military Business Center - Joe Tew\, Director<br />\nNC Apple Festival Speaker</span></span><br />\n<br />\n<span style="font-size:18px\;"><span style="font-family:arial\;">2023 Business Morning Updates are Presented by <a href="https://www.southernquality.com/">Southern Quality Company</a>&nbsp\;and Emceed by B<sup>2</sup>&nbsp\;Realty.&nbsp\;</span></span>
LOCATION:Elk's Lodge | 546 North Justice St\, Hendersonville
UID:e.2975.5221
SEQUENCE:3
DTSTAMP:20260419T201519Z
URL:https://business.hendersoncountychamber.org/events/details/business-morning-update-07-12-2023-5221
END:VEVENT

END:VCALENDAR
