BEGIN:VCALENDAR
VERSION:2.0
PRODID:-//ChamberMaster//Event Calendar 2.0//EN
METHOD:PUBLISH
X-PUBLISHED-TTL:P3D
REFRESH-INTERVAL:P3D
CALSCALE:GREGORIAN
BEGIN:VEVENT
DTSTART:20231011T114500Z
DTEND:20231011T130000Z
X-MICROSOFT-CDO-ALLDAYEVENT:FALSE
SUMMARY:Business Morning Update
DESCRIPTION:This monthly event is co-sponsored with Blue Ridge Community College's Small Business Center\, the City of Hendersonville Main Street program\, and the Hendersonville Merchants & Business Association features several speakers on timely community events and issues affecting our business community. \n\n\n\nThis month's program consist of:\n\nMark Biberdorf - Town of Fletcher\n\nPolly Angelikus - Carl Sandburg Home\n\nJudith Long - Free Clinics\n\n\n\n2023 Business Morning Updates are Presented by Southern Quality Company. \n\n\n\nOctober is sponsored by Steward Partners!
X-ALT-DESC;FMTTYPE=text/html:<span style="color: rgb(77\, 77\, 77)\; font-family: Lato\, sans-serif\; font-size: 18px\; text-align: center\;"><span style="font-family:arial\;">This monthly event is co-sponsored with Blue Ridge Community College&#39\;s Small Business Center\, the City of Hendersonville Main Street program\, and the Hendersonville Merchants &amp\; Business Association features several speakers on timely community events and issues affecting our business community.&nbsp\;<br />\n<br />\nThis month&#39\;s program consist of:<br />\nMark Biberdorf - Town of Fletcher<br />\nPolly Angelikus - Carl Sandburg Home<br />\nJudith Long - Free Clinics</span></span><br />\n<br />\n<span style="font-size:18px\;"><span style="font-family:arial\;">2023 Business Morning Updates are Presented by <a href="https://www.southernquality.com/">Southern Quality Company</a>.&nbsp\;<br />\n<br />\nOctober is sponsored by Steward Partners!</span></span>
LOCATION:Elk's Lodge | 546 North Justice St\, Henderosnville
UID:e.2975.5224
SEQUENCE:3
DTSTAMP:20260419T162849Z
URL:https://business.hendersoncountychamber.org/events/details/business-morning-update-10-11-2023-5224
END:VEVENT

END:VCALENDAR
