BEGIN:VCALENDAR
VERSION:2.0
PRODID:-//ChamberMaster//Event Calendar 2.0//EN
METHOD:PUBLISH
X-PUBLISHED-TTL:P3D
REFRESH-INTERVAL:P3D
CALSCALE:GREGORIAN
BEGIN:VEVENT
DTSTART:20221012T120000Z
DTEND:20221012T130000Z
X-MICROSOFT-CDO-ALLDAYEVENT:FALSE
SUMMARY:Business Morning Update
DESCRIPTION:This monthly event is co-sponsored with Blue Ridge Community College's Small Business Center\, the City of Hendersonville Main Street program\, and the Hendersonville Merchants & Business Association features several speakers on timely community events and issues affecting our business community. \n\n\n\nThis month's program consist of guest from:\n\nWNC Business - Brett Hulsey\n\nHenderson County Public Schools - Mark Garrett\n\nEmtelle - Brett Love
X-ALT-DESC;FMTTYPE=text/html:<span style="font-family:arial\;"><span style="color: rgb(77\, 77\, 77)\; text-align: center\;">This monthly event is co-sponsored with Blue Ridge Community College&#39\;s Small Business Center\, the City of Hendersonville Main Street program\, and the Hendersonville Merchants &amp\; Business Association features several speakers on timely community events and issues affecting our business community.&nbsp\;</span><br style="box-sizing: inherit\; color: rgb(77\, 77\, 77)\; font-family: Lato\, sans-serif\; font-size: 18px\; text-align: center\;" />\n<br />\nThis month&#39\;s program consist of guest from:<br />\nWNC Business - Brett Hulsey<br />\nHenderson County Public Schools - Mark Garrett<br />\nEmtelle - Brett Love</span><br />\n<br />\n&nbsp\;
LOCATION:Elks Lodge | 546 N Justice Street
UID:e.2975.3620
SEQUENCE:3
DTSTAMP:20260422T212721Z
URL:https://business.hendersoncountychamber.org/events/details/business-morning-update-10-12-2022-3620
END:VEVENT

END:VCALENDAR
