BEGIN:VCALENDAR
VERSION:2.0
PRODID:-//ChamberMaster//Event Calendar 2.0//EN
METHOD:PUBLISH
X-PUBLISHED-TTL:P3D
REFRESH-INTERVAL:P3D
CALSCALE:GREGORIAN
BEGIN:VEVENT
DTSTART:20231108T124500Z
DTEND:20231108T140000Z
X-MICROSOFT-CDO-ALLDAYEVENT:FALSE
SUMMARY:Business Morning Update
DESCRIPTION:This monthly event is co-sponsored with Blue Ridge Community College's Small Business Center\, the City of Hendersonville Main Street program\, and the Hendersonville Merchants & Business Association features several speakers on timely community events and issues affecting our business community. \n\n\n\nThis month's program consist of:\n\n- Chris Parker\, Executive Director\, Thrive\n\n- David LaMond\, Co-Founder\, Ride Rock Creek & Ride Kanuga\n\n- Chris Todd\, Business & Community Development Director\, Henderson County\n\n\n\nNovember is hosted by ALLCHOICE Insurance.\n\n\n\n2023 Business Morning Updates are Presented by Southern Quality Company.
X-ALT-DESC;FMTTYPE=text/html:<span style="color: rgb(77\, 77\, 77)\; font-family: Lato\, sans-serif\; font-size: 18px\; text-align: center\;"><span style="font-family:arial\;">This monthly event is co-sponsored with Blue Ridge Community College&#39\;s Small Business Center\, the City of Hendersonville Main Street program\, and the Hendersonville Merchants &amp\; Business Association features several speakers on timely community events and issues affecting our business community.&nbsp\;<br />\n<br />\nThis month&#39\;s program consist of:<br />\n- Chris Parker\, Executive Director\, Thrive<br />\n- David LaMond\, Co-Founder\, Ride Rock Creek &amp\; Ride Kanuga<br />\n- Chris Todd\, Business &amp\; Community Development Director\, Henderson County<br />\n<br />\nNovember is hosted by <a href="https://allchoiceinsurance.com/hendersonville/">ALLCHOICE Insurance</a>.</span></span><br />\n<br />\n<span style="font-size:18px\;"><span style="font-family:arial\;">2023 Business Morning Updates are Presented by <a href="https://www.southernquality.com/">Southern Quality Company</a>.&nbsp\;</span></span>
LOCATION:Elk's Lodge | 546 North Justice St\, Hendersonville
UID:e.2975.5225
SEQUENCE:3
DTSTAMP:20260419T144319Z
URL:https://business.hendersoncountychamber.org/events/details/business-morning-update-11-08-2023-5225
END:VEVENT

END:VCALENDAR
