BEGIN:VCALENDAR
VERSION:2.0
PRODID:-//ChamberMaster//Event Calendar 2.0//EN
METHOD:PUBLISH
X-PUBLISHED-TTL:P3D
REFRESH-INTERVAL:P3D
CALSCALE:GREGORIAN
BEGIN:VEVENT
DTSTART:20221214T124500Z
DTEND:20221214T140000Z
X-MICROSOFT-CDO-ALLDAYEVENT:FALSE
SUMMARY:Business Morning Update
DESCRIPTION:This monthly event is co-sponsored with Blue Ridge Community College's Small Business Center\, the City of Hendersonville Main Street program\, and the Hendersonville Merchants & Business Association features several speakers on timely community events and issues affecting our business community.
X-ALT-DESC;FMTTYPE=text/html:<span style="color: rgb(77\, 77\, 77)\; font-family: Lato\, sans-serif\; font-size: 18px\; text-align: center\;">This monthly event is co-sponsored with Blue Ridge Community College&#39\;s Small Business Center\, the City of Hendersonville Main Street program\, and the Hendersonville Merchants &amp\; Business Association features several speakers on timely community events and issues affecting our business community.&nbsp\;</span>
LOCATION:Elks Lodge | 546 N. Justice Street
UID:e.2975.3622
SEQUENCE:3
DTSTAMP:20260422T180604Z
URL:https://business.hendersoncountychamber.org/events/details/business-morning-update-12-14-2022-3622
END:VEVENT

END:VCALENDAR
