BEGIN:VCALENDAR
VERSION:2.0
PRODID:-//ChamberMaster//Event Calendar 2.0//EN
METHOD:PUBLISH
X-PUBLISHED-TTL:P3D
REFRESH-INTERVAL:P3D
CALSCALE:GREGORIAN
BEGIN:VEVENT
DTSTART:20230111T124500Z
DTEND:20230111T140000Z
X-MICROSOFT-CDO-ALLDAYEVENT:FALSE
SUMMARY:Business Morning Update
DESCRIPTION:This monthly event is co-sponsored with Blue Ridge Community College's Small Business Center\, the City of Hendersonville Main Street program\, and the Hendersonville Merchants & Business Association features several speakers on timely community events and issues affecting our business community. \n\n\n\nThis month's program consist of guest from: \n\nBrian Pahle - Assistant City Manager - City of Hendersonville \n\nDr. Laura Leatherwood - President - Blue Ridge Community College\n\nKatrina McGuire - Executive Director - Literacy Connection\n\n\n\n2023 Business Morning Updates are Presented by Southern Quality Company. \n\nJanuary is hosted by Asheville Regional Airport.
X-ALT-DESC;FMTTYPE=text/html:<span style="color: rgb(77\, 77\, 77)\; font-family: Lato\, sans-serif\; font-size: 18px\; text-align: center\;"><span style="font-family:arial\;">This monthly event is co-sponsored with Blue Ridge Community College&#39\;s Small Business Center\, the City of Hendersonville Main Street program\, and the Hendersonville Merchants &amp\; Business Association features several speakers on timely community events and issues affecting our business community.&nbsp\;<br />\n<br />\nThis month&#39\;s program consist of guest from: </span><br />\nBrian Pahle - Assistant City Manager -&nbsp\;</span><a href="https://www.hendersonvillenc.gov/" style="box-sizing: inherit\; color: rgb(36\, 73\, 158)\; line-height: inherit\; text-decoration-line: none\; font-family: Lato\, sans-serif\; font-size: 18px\; text-align: center\;">City of Hendersonville&nbsp\;</a><br style="box-sizing: inherit\; color: rgb(77\, 77\, 77)\; font-family: Lato\, sans-serif\; font-size: 18px\; text-align: center\;" />\n<span style="color: rgb(77\, 77\, 77)\; font-family: Lato\, sans-serif\; font-size: 18px\; text-align: center\;">Dr. Laura Leatherwood - President -&nbsp\;</span><a href="https://www.blueridge.edu/" style="box-sizing: inherit\; color: rgb(36\, 73\, 158)\; line-height: inherit\; text-decoration-line: none\; font-family: Lato\, sans-serif\; font-size: 18px\; text-align: center\;">Blue Ridge Community College</a><br style="box-sizing: inherit\; color: rgb(77\, 77\, 77)\; font-family: Lato\, sans-serif\; font-size: 18px\; text-align: center\;" />\n<span style="color: rgb(77\, 77\, 77)\; font-family: Lato\, sans-serif\; font-size: 18px\; text-align: center\;">Katrina McGuire - Executive Director -&nbsp\;</span><a href="https://www.litcouncil.org/" style="box-sizing: inherit\; color: rgb(36\, 73\, 158)\; line-height: inherit\; text-decoration-line: none\; font-family: Lato\, sans-serif\; font-size: 18px\; text-align: center\;">Literacy Connection</a><br />\n<br />\n<span style="font-size:18px\;"><span style="font-family:arial\;">2023 Business Morning Updates are Presented by <a href="https://www.southernquality.com/">Southern Quality Company</a>.&nbsp\;<br />\nJanuary is hosted by <a href="http://www.flyavl.com">Asheville Regional Airport</a>.</span></span>
LOCATION:Elk's Lodge | 546 North Justice St\, Hendersonville
UID:e.2975.5215
SEQUENCE:3
DTSTAMP:20260422T153022Z
URL:https://business.hendersoncountychamber.org/events/details/business-morning-update-5215
END:VEVENT

END:VCALENDAR
