BEGIN:VCALENDAR
VERSION:2.0
PRODID:-//ChamberMaster//Event Calendar 2.0//EN
METHOD:PUBLISH
X-PUBLISHED-TTL:P3D
REFRESH-INTERVAL:P3D
CALSCALE:GREGORIAN
BEGIN:VEVENT
DTSTART:20230518T153000Z
DTEND:20230518T173000Z
X-MICROSOFT-CDO-ALLDAYEVENT:FALSE
SUMMARY:Business & Professional Women's Luncheon
DESCRIPTION:Join us for a special event where attendees will experience the presentation of the 16th Annual Henderson County ATHENA Award in memory of Vanessa Mintz.\n\n\n\nThis event is sponsored by Pardee UNC Health Care\, Optimum\, and Hunter Automotive.
X-ALT-DESC;FMTTYPE=text/html:Join us for a special event where attendees will experience the presentation of the 16th Annual Henderson County ATHENA Award in memory of Vanessa Mintz.<br />\n<br />\nThis event is sponsored by Pardee UNC Health Care\, Optimum\, and Hunter Automotive.
LOCATION:Blue Ridge Conference Hall - 49 East Campus Drive\, Flat Rock
UID:e.2975.5330
SEQUENCE:3
DTSTAMP:20260422T091300Z
URL:https://business.hendersoncountychamber.org/events/details/business-professional-women-s-luncheon-5330
END:VEVENT

END:VCALENDAR
