BEGIN:VCALENDAR
VERSION:2.0
PRODID:-//ChamberMaster//Event Calendar 2.0//EN
METHOD:PUBLISH
X-PUBLISHED-TTL:P3D
REFRESH-INTERVAL:P3D
CALSCALE:GREGORIAN
BEGIN:VEVENT
DTSTART:20230304T003000Z
DTEND:20230304T030000Z
X-MICROSOFT-CDO-ALLDAYEVENT:FALSE
SUMMARY:Calendar Girls
DESCRIPTION:By: Tim Firth\n\nBased on the Miramax motion picture by Juliette Towhidi and Tim Firth\n\nPresented by arrangement with Concord Theatricals on behalf of Samuel French\, Inc. www.concordtheatricals.com\n\nDirected by: Brandi Andrade\n\n\n\nTim Firth's hilarious play is based on the true story of eleven middle-aged women who famously posed nude for a calendar to raise money for the Leukemia Research Fund in 1999. When Annie's husband John dies of leukemia\, she and best friend Chris resolve to raise money for a new settee in the local hospital waiting room. They persuade four friends and fellow members of the Women's Institute to pose nude with them for an "alternative" calendar\, assisted by hospital porter and amateur photographer Lawrence. News of the women's charitable venture spreads like wildfire\, and hordes of press soon descend on the small village of Knapeley in Yorkshire\, England. The calendar is a success\, but Chris and Annie's friendship is put to the test under the strain of their new-found fame.\n\n\n\nApproximate Run Time: 2 hours\, 25 minutes\n\nRating: Mature due to adult situations\, humor\, and language
X-ALT-DESC;FMTTYPE=text/html:<div>By: Tim Firth<br />\nBased on the Miramax motion picture by Juliette Towhidi and Tim Firth<br />\nPresented by arrangement with Concord Theatricals on behalf of Samuel French\, Inc.&nbsp\;<a class="x1i10hfl xjbqb8w x6umtig x1b1mbwd xaqea5y xav7gou x9f619 x1ypdohk xt0psk2 xe8uvvx xdj266r x11i5rnm xat24cr x1mh8g0r xexx8yu x4uap5 x18d9i69 xkhd6sd x16tdsg8 x1hl2dhg xggy1nq x1a2a7pz xt0b8zv x1fey0fg" href="http://www.concordtheatricals.com/?fbclid=IwAR0UpPVrV6WPa-CAKfHDwmdu9yXUX0Zy4csT_IT_Lq8mWdhhxV_wSv2lDgM" rel="nofollow noopener" style="color: var(--blue-link)\; cursor: pointer\; text-decoration-line: none\; margin: 0px\; text-align: inherit\; padding: 0px\; outline: none\; border-width: 0px\; border-style: initial\; border-color: initial\; -webkit-tap-highlight-color: transparent\; box-sizing: border-box\; list-style: none\; touch-action: manipulation\; background-color: transparent\; display: inline\; font-family: inherit\;" tabindex="0" target="_blank">www.concordtheatricals.com</a></div>\n\n<div>Directed by: Brandi Andrade</div>\n\n<div><br />\nTim Firth&rsquo\;s hilarious play is based on the true story of eleven middle-aged women who famously posed nude for a calendar to raise money for the Leukemia Research Fund in 1999. When Annie&rsquo\;s husband John dies of leukemia\, she and best friend Chris resolve to raise money for a new settee in the local hospital waiting room. They persuade four friends and fellow members of the Women&rsquo\;s Institute to pose nude with them for an &ldquo\;alternative&rdquo\; calendar\, assisted by hospital porter and amateur photographer Lawrence. News of the women&rsquo\;s charitable venture spreads like wildfire\, and hordes of press soon descend on the small village of Knapeley in Yorkshire\, England. The calendar is a success\, but Chris and Annie&rsquo\;s friendship is put to the test under the strain of their new-found fame.</div>\n\n<div><br />\nApproximate Run Time: 2 hours\, 25 minutes<br />\nRating: Mature due to adult situations\, humor\, and language</div>\n
LOCATION:Hendersonville Theatre 229 S. Washington Street Hendersonville\, NC 28739
UID:e.2975.5342
SEQUENCE:3
DTSTAMP:20260422T111253Z
URL:https://business.hendersoncountychamber.org/events/details/calendar-girls-03-03-2023-5342
END:VEVENT

END:VCALENDAR
