BEGIN:VCALENDAR
VERSION:2.0
PRODID:-//ChamberMaster//Event Calendar 2.0//EN
METHOD:PUBLISH
X-PUBLISHED-TTL:P3D
REFRESH-INTERVAL:P3D
CALSCALE:GREGORIAN
BEGIN:VEVENT
DTSTART:20231012T150000Z
DTEND:20231012T210000Z
X-MICROSOFT-CDO-ALLDAYEVENT:FALSE
SUMMARY:Camp Field Day
DESCRIPTION:The Henderson County Chamber of Commerce along with United Community Bank and Horizon Heating & Air present Camp Field Day hosted by Camp Ton-A-Wandah.\n\n\n\nCamp Field Day is a fabulous\, unique opportunity for area business folks to spend a day at one of our local camps. Spending the day competing and participating in camp activities to serve as a team building opportunity\, client/customer development opportunity and a chance to get to know a bit about the large hidden industry of Camp that is a significant local economic driver. Camp Field Day is a fundraiser/business development event for the Chamber of Commerce and its membership. (Similar to a golf tournament or 5K). The event was created in Henderson County and is being modeled in other areas to achieve the same awareness and success.\n\n \n\nThe event serves many purposes:\n\n  Awareness of our camp industry\n\n  Opportunity to meet/get to know some of our local camp owners/directors and related businesses\n\n  Network with other business folks in a relaxed environment\n\n  Showcase Outdoor businesses that you typically do not see at other events allowing hands on experiences\n\n  Team building and friendly competition\n\n  Limited access and spaces to keep it intimate and manageable\n\n  Great fun event for all levels of athletic or non-athletic interest.\n\n  FUN!!!!FUN!!!FUN!!!
X-ALT-DESC;FMTTYPE=text/html:<span style="font-size:14px\;"><span style="font-family:arial\;"><span style="color:black\;">The Henderson County Chamber of Commerce along with United Community Bank and Horizon Heating &amp\; Air present Camp Field Day hosted by Camp Ton-A-Wandah.</span><br />\n<br />\nCamp Field Day is a fabulous\, unique opportunity for area business folks to spend a day at one of our local camps. Spending the day competing and participating in camp activities to serve as a team building opportunity\, client/customer development opportunity and a chance to get to know a bit about the large hidden industry of Camp that is a significant local economic driver. Camp Field Day is a fundraiser/business development event for the Chamber of Commerce and its membership. (Similar to a golf tournament or 5K). The event was created in Henderson County and is being modeled in other areas to achieve the same awareness and success.<br />\n&nbsp\;<br />\nThe event serves many purposes:<br />\n&middot\; Awareness of our camp industry<br />\n&middot\; Opportunity to meet/get to know some of our local camp owners/directors and related businesses<br />\n&middot\; Network with other business folks in a relaxed environment<br />\n&middot\; Showcase Outdoor businesses that you typically do not see at other events allowing hands on experiences<br />\n&middot\; Team building and friendly competition<br />\n&middot\; Limited access and spaces to keep it intimate and manageable<br />\n&middot\; Great fun event for all levels of athletic or non-athletic interest.<br />\n&middot\; FUN!!!!FUN!!!FUN!!!</span></span><br />\n&nbsp\;
LOCATION:Camp Ton-A-Wandah | 300 West Ton A Wandah Road\, Hendersonville
UID:e.2975.5796
SEQUENCE:3
DTSTAMP:20260419T144009Z
URL:https://business.hendersoncountychamber.org/events/details/camp-field-day-5796
END:VEVENT

END:VCALENDAR
