BEGIN:VCALENDAR
VERSION:2.0
PRODID:-//ChamberMaster//Event Calendar 2.0//EN
METHOD:PUBLISH
X-PUBLISHED-TTL:P3D
REFRESH-INTERVAL:P3D
CALSCALE:GREGORIAN
BEGIN:VEVENT
DTSTART:20230726T123000Z
DTEND:20230726T133000Z
X-MICROSOFT-CDO-ALLDAYEVENT:FALSE
SUMMARY:**Canceled** ATHENA Committee Meeting
DESCRIPTION:This committee meets to plan the programs surrounding the ATHENA Henderson County Award. \n\n\n\nKey events include:\n\n	ATHENA Leadership Breakfasts\n	Empower Hour Networking Events Hosted the 1st month of each quarter\n	ATHENA Nominee Reception \n	Business & Professional Women's Luncheon hosted in May
X-ALT-DESC;FMTTYPE=text/html:This committee meets to plan the programs surrounding the ATHENA Henderson County Award.&nbsp\;<br />\n<br />\nKey events include:\n<ul>\n	<li>ATHENA Leadership Breakfasts</li>\n	<li>Empower Hour Networking Events Hosted the 1st month of each quarter</li>\n	<li>ATHENA Nominee Reception&nbsp\;</li>\n	<li>Business &amp\; Professional Women&#39\;s Luncheon hosted in May&nbsp\;</li>\n</ul>\n
LOCATION:Hendersonville City Hall 160 6th Ave E Hendersonville\, NC 28792
UID:e.2975.5260
SEQUENCE:3
DTSTAMP:20260419T221549Z
URL:https://business.hendersoncountychamber.org/events/details/canceled-athena-committee-meeting-07-26-2023-5260
END:VEVENT

END:VCALENDAR
