BEGIN:VCALENDAR
VERSION:2.0
PRODID:-//ChamberMaster//Event Calendar 2.0//EN
METHOD:PUBLISH
X-PUBLISHED-TTL:P3D
REFRESH-INTERVAL:P3D
CALSCALE:GREGORIAN
BEGIN:VEVENT
DTSTART:20230623T130000Z
DTEND:20230623T200000Z
X-MICROSOFT-CDO-ALLDAYEVENT:FALSE
SUMMARY:**Canceled** Constant Contact Bootcamp with Aaron Wesley Means
DESCRIPTION:Get years worth of Email Marketing Experience in just one day!\n\nIn this class you'll learn hands on\, in your account in realtime\, from a Master Certified Constant Contact trainer. We will walk you through\, step-by-step\, how to create highly effective email marketing.\n\n\n\nAgenda:\n\nDuring this class we'll cover:\n\n	Creating a mobile friendly and mobile responsive template\n	How to Brand-Match Your Email with colors and themes like a Pro\n	Adding features only Constant Contact has!\n	Avoid formatting errors that cost you time and readers\n	Adding images and how to get the most from them\n	Adding links\, tables\, videos\, surveys\, and other impactful content\n	How to sell in an email (it's not what you think!)\n	Why subject line is only the begging\, the secrets of pre-header text\n	How to avoid the spam trap\n	How to build your list both online and offline\n	How to read simple reporting and analytics to measure your success\n	How to get your emails opened right away\n	MUCH MORE!\n\n\n$99 ALL INCLUSIVE\n\n(lunch will be served)\n\n \n\nThis event has a limited number of spots so that attendees can receive personal attention. This event has sold out quickly in the past\, so register now before it fills up!\n\n\n\nWho should Attend?\n\nThis session is geared for anyone\, from users who have little to no experience using Constant Contact's Email Marketing tool\, to those who have some experience but want a more efficient way of creating a better\, more pain free email that produces results. There will be tons of tips and best practices for nearly anyone at any experience level.\n\n\n\nHow will This Work?\n\nYou will be logged into a Constant Contact account. If you don't have one\, no problem! We will get you a free demo account! We will work together through best practices to "how-to" exercises. The group of attendees is purposefully kept small in order to provide thorough help to everyone. You will be served a nice lunch during the seminar.\n\n \n\nWhat will I Need?\n\nYou will need to bring a laptop if you'd like to follow along on the steps in realtime.
X-ALT-DESC;FMTTYPE=text/html:<div class="shsp-booklaunch shsp-launch-layout-main" font-size:="" new="" style="-webkit-font-smoothing: antialiased\; text-size-adjust: none\; color: rgb(70\, 70\, 70)\; font-family: " times=""><strong style="-webkit-font-smoothing: antialiased\; color: rgb(70\, 70\, 70)\; font-family: Roboto\, Helvetica\, Arial\, sans-serif\; font-size: 22px\; text-align: center\;"><span sh-custom-font-2="Roboto\, Helvetica\, Arial\, sans-serif" style="-webkit-font-smoothing: antialiased\; font-family: Helvetica\, Arial\, sans-serif\, Roboto\; caret-color: rgba(0\, 0\, 0\, 0.9)\; color: rgba(0\, 0\, 0\, 0.9)\; text-align: start\; display: inline !important\;">Get years worth of Email Marketing Experience in just one day!</span></strong><br />\n<span style="color: rgb(70\, 70\, 70)\; font-family: Roboto\, Helvetica\, Arial\, sans-serif\; font-size: 18px\;">In this class you&#39\;ll learn hands on\, in your account in realtime\, from a Master Certified Constant Contact trainer. We will walk you through\, step-by-step\, how to create&nbsp\;</span><em style="-webkit-font-smoothing: antialiased\; color: rgb(70\, 70\, 70)\; font-family: Roboto\, Helvetica\, Arial\, sans-serif\; font-size: 18px\;">highly effective</em><span style="color: rgb(70\, 70\, 70)\; font-family: Roboto\, Helvetica\, Arial\, sans-serif\; font-size: 18px\;">&nbsp\;email marketing.</span><br />\n<br />\n<span sh-custom-font-5="Roboto\, Helvetica\, Arial\, sans-serif" style="-webkit-font-smoothing: antialiased\; font-family: Helvetica\, Arial\, sans-serif\, Roboto\; color: rgb(70\, 70\, 70)\; font-size: 18px\;" title=""><strong style="-webkit-font-smoothing: antialiased\;">Agenda:</strong></span><br style="-webkit-font-smoothing: antialiased\; color: rgb(70\, 70\, 70)\; font-family: Roboto\, Helvetica\, Arial\, sans-serif\; font-size: 14px\;" />\n<span sh-custom-font-6="Roboto\, Helvetica\, Arial\, sans-serif" style="-webkit-font-smoothing: antialiased\; font-family: Helvetica\, Arial\, sans-serif\, Roboto\; color: rgb(70\, 70\, 70)\; font-size: 18px\;">During this class we&#39\;ll cover:</span>\n<ul style="-webkit-font-smoothing: antialiased\; color: rgb(70\, 70\, 70)\; font-family: Roboto\, Helvetica\, Arial\, sans-serif\; font-size: 14px\;">\n	<li><span style="font-family: Roboto\, Helvetica\, Arial\, sans-serif\; font-size: 18px\;">Creating a mobile friendly and mobile responsive template</span></li>\n	<li style="-webkit-font-smoothing: antialiased\; text-size-adjust: none\; color: rgb(51\, 51\, 51)\;"><span sh-custom-font-8="Roboto\, Helvetica\, Arial\, sans-serif" style="-webkit-font-smoothing: antialiased\; font-family: Helvetica\, Arial\, sans-serif\, Roboto\; font-size: 18px\;" title="">How to Brand-Match Your Email with colors and themes like a Pro</span></li>\n	<li style="-webkit-font-smoothing: antialiased\; text-size-adjust: none\; color: rgb(51\, 51\, 51)\;"><span sh-custom-font-9="Roboto\, Helvetica\, Arial\, sans-serif" style="-webkit-font-smoothing: antialiased\; font-family: Helvetica\, Arial\, sans-serif\, Roboto\; font-size: 18px\;" title="">Adding features only Constant Contact has!</span></li>\n	<li style="-webkit-font-smoothing: antialiased\; text-size-adjust: none\; color: rgb(51\, 51\, 51)\;"><span sh-custom-font-10="Roboto\, Helvetica\, Arial\, sans-serif" style="-webkit-font-smoothing: antialiased\; font-family: Helvetica\, Arial\, sans-serif\, Roboto\; font-size: 18px\;" title="">Avoid formatting errors that cost you time and readers</span></li>\n	<li style="-webkit-font-smoothing: antialiased\; text-size-adjust: none\; color: rgb(51\, 51\, 51)\;"><span sh-custom-font-11="Roboto\, Helvetica\, Arial\, sans-serif" style="-webkit-font-smoothing: antialiased\; font-family: Helvetica\, Arial\, sans-serif\, Roboto\; font-size: 18px\;" title="">Adding images and how to get the most from them</span></li>\n	<li style="-webkit-font-smoothing: antialiased\; text-size-adjust: none\; color: rgb(51\, 51\, 51)\;"><span sh-custom-font-12="Roboto\, Helvetica\, Arial\, sans-serif" style="-webkit-font-smoothing: antialiased\; font-family: Helvetica\, Arial\, sans-serif\, Roboto\; font-size: 18px\;" title="">Adding links\, tables\, videos\, surveys\, and other impactful content</span></li>\n	<li style="-webkit-font-smoothing: antialiased\; text-size-adjust: none\; color: rgb(51\, 51\, 51)\;"><span sh-custom-font-13="Roboto\, Helvetica\, Arial\, sans-serif" style="-webkit-font-smoothing: antialiased\; font-family: Helvetica\, Arial\, sans-serif\, Roboto\; font-size: 18px\;" title="">How to sell in an email (it&#39\;s not what you think!)</span></li>\n	<li style="-webkit-font-smoothing: antialiased\; text-size-adjust: none\; color: rgb(51\, 51\, 51)\;"><span sh-custom-font-14="Roboto\, Helvetica\, Arial\, sans-serif" style="-webkit-font-smoothing: antialiased\; font-family: Helvetica\, Arial\, sans-serif\, Roboto\; font-size: 18px\;" title="">Why subject line is only the begging\, the secrets of pre-header text</span></li>\n	<li style="-webkit-font-smoothing: antialiased\; text-size-adjust: none\; color: rgb(51\, 51\, 51)\;"><span sh-custom-font-15="Roboto\, Helvetica\, Arial\, sans-serif" style="-webkit-font-smoothing: antialiased\; font-family: Helvetica\, Arial\, sans-serif\, Roboto\; font-size: 18px\;" title="">How to avoid the spam trap</span></li>\n	<li style="-webkit-font-smoothing: antialiased\; text-size-adjust: none\; color: rgb(51\, 51\, 51)\;"><span sh-custom-font-16="Roboto\, Helvetica\, Arial\, sans-serif" style="-webkit-font-smoothing: antialiased\; font-family: Helvetica\, Arial\, sans-serif\, Roboto\; font-size: 18px\;" title="">How to build your list both online and offline</span></li>\n	<li style="-webkit-font-smoothing: antialiased\; text-size-adjust: none\; color: rgb(51\, 51\, 51)\;"><span sh-custom-font-17="Roboto\, Helvetica\, Arial\, sans-serif" style="-webkit-font-smoothing: antialiased\; font-family: Helvetica\, Arial\, sans-serif\, Roboto\; font-size: 18px\;" title="">How to read simple reporting and analytics to measure your success</span></li>\n	<li style="-webkit-font-smoothing: antialiased\; text-size-adjust: none\; color: rgb(51\, 51\, 51)\;"><span sh-custom-font-18="Roboto\, Helvetica\, Arial\, sans-serif" style="-webkit-font-smoothing: antialiased\; font-family: Helvetica\, Arial\, sans-serif\, Roboto\; font-size: 18px\;" title="">How to get your emails opened right away</span></li>\n	<li style="-webkit-font-smoothing: antialiased\; text-size-adjust: none\; color: rgb(51\, 51\, 51)\;"><span sh-custom-font-18="Roboto\, Helvetica\, Arial\, sans-serif" style="-webkit-font-smoothing: antialiased\; font-family: Helvetica\, Arial\, sans-serif\, Roboto\; font-size: 18px\;" title="">MUCH MORE!</span></li>\n</ul>\n\n<p style="-webkit-font-smoothing: antialiased\; text-size-adjust: none\; color: rgb(70\, 70\, 70)\; font-family: Roboto\, Helvetica\, Arial\, sans-serif\; font-size: 14px\; padding: 0px !important\; margin: 0px !important\;"><span style="-webkit-font-smoothing: antialiased\; font-size: 24pt\;" title=""><strong style="-webkit-font-smoothing: antialiased\;"><span style="-webkit-font-smoothing: antialiased\; font-family: Arial\, Helvetica\, sans-serif\; font-size: 18pt\;" title="">$99 ALL INCLUSIVE</span><br style="-webkit-font-smoothing: antialiased\;" />\n<span style="-webkit-font-smoothing: antialiased\; font-size: 14pt\;" title="">(lunch will be served)</span></strong></span></p>\n\n<p style="-webkit-font-smoothing: antialiased\; text-size-adjust: none\; color: rgb(70\, 70\, 70)\; font-family: Roboto\, Helvetica\, Arial\, sans-serif\; font-size: 14px\; padding: 0px !important\; margin: 0px !important\;">&nbsp\;</p>\n\n<p style="-webkit-font-smoothing: antialiased\; text-size-adjust: none\; color: rgb(70\, 70\, 70)\; font-family: Roboto\, Helvetica\, Arial\, sans-serif\; font-size: 14px\; padding: 0px !important\; margin: 0px !important\;"><span sh-custom-font-20="Roboto\, Helvetica\, Arial\, sans-serif" style="-webkit-font-smoothing: antialiased\; font-family: Helvetica\, Arial\, sans-serif\, Roboto\; font-size: 18px\;"><span style="-webkit-font-smoothing: antialiased\; color: rgb(0\, 0\, 128)\;" title=""><em style="-webkit-font-smoothing: antialiased\;"><span style="-webkit-font-smoothing: antialiased\;" title="">This event has a limited number of spots so that attendees can receive personal attention.&nbsp\;</span></em></span><span style="-webkit-font-smoothing: antialiased\; color: rgb(0\, 0\, 128)\;" title=""><em style="-webkit-font-smoothing: antialiased\;"><span style="-webkit-font-smoothing: antialiased\;" title="">This event has sold out quickly in the past\, so register now before it fills up!</span></em></span></span></p>\n\n<p style="-webkit-font-smoothing: antialiased\; text-size-adjust: none\; color: rgb(70\, 70\, 70)\; font-family: Roboto\, Helvetica\, Arial\, sans-serif\; font-size: 14px\; padding: 0px !important\; margin: 0px !important\;"><br style="-webkit-font-smoothing: antialiased\;" />\n<span sh-custom-font-21="Roboto\, Helvetica\, Arial\, sans-serif" style="-webkit-font-smoothing: antialiased\; font-family: Helvetica\, Arial\, sans-serif\, Roboto\; font-size: 18px\;"><strong style="-webkit-font-smoothing: antialiased\;"><span style="-webkit-font-smoothing: antialiased\;" title="">Who should Attend?</span></strong></span><br style="-webkit-font-smoothing: antialiased\;" />\n<span sh-custom-font-22="Roboto\, Helvetica\, Arial\, sans-serif" style="-webkit-font-smoothing: antialiased\; font-family: Helvetica\, Arial\, sans-serif\, Roboto\; font-size: 18px\;" title="">This session is geared for anyone\, from users who have little to no experience using Constant Contact&#39\;s Email Marketing tool\, to those who have some experience but want a more efficient way of creating a better\, more pain free email that produces results. There will be tons of tips and best practices for nearly anyone at any experience level.</span></p>\n\n<p style="-webkit-font-smoothing: antialiased\; text-size-adjust: none\; color: rgb(70\, 70\, 70)\; font-family: Roboto\, Helvetica\, Arial\, sans-serif\; font-size: 14px\; padding: 0px !important\; margin: 0px !important\;"><br style="-webkit-font-smoothing: antialiased\;" />\n<span sh-custom-font-23="Roboto\, Helvetica\, Arial\, sans-serif" style="-webkit-font-smoothing: antialiased\; font-family: Helvetica\, Arial\, sans-serif\, Roboto\; font-size: 18px\;"><strong style="-webkit-font-smoothing: antialiased\;">How will This Work?</strong></span><br style="-webkit-font-smoothing: antialiased\;" />\n<span sh-custom-font-24="Roboto\, Helvetica\, Arial\, sans-serif" style="-webkit-font-smoothing: antialiased\; font-family: Helvetica\, Arial\, sans-serif\, Roboto\; font-size: 18px\;"><span style="-webkit-font-smoothing: antialiased\;" title="">You will be logged into a Constant Contact account. If you don&#39\;t have one\, no problem! We will get you a free demo account! We will work together through best practices to &quot\;how-to&quot\; exercises. The group of attendees is purposefully kept small in order to provide thorough help to everyone.&nbsp\;</span><span style="-webkit-font-smoothing: antialiased\;" title="">You will be served a nice lunch during the seminar.</span></span></p>\n\n<p style="-webkit-font-smoothing: antialiased\; text-size-adjust: none\; color: rgb(70\, 70\, 70)\; font-family: Roboto\, Helvetica\, Arial\, sans-serif\; font-size: 14px\; padding: 0px !important\; margin: 0px !important\;">&nbsp\;</p>\n\n<p style="-webkit-font-smoothing: antialiased\; text-size-adjust: none\; color: rgb(70\, 70\, 70)\; font-family: Roboto\, Helvetica\, Arial\, sans-serif\; font-size: 14px\; padding: 0px !important\; margin: 0px !important\;"><span sh-custom-font-25="Roboto\, Helvetica\, Arial\, sans-serif" style="-webkit-font-smoothing: antialiased\; font-family: Helvetica\, Arial\, sans-serif\, Roboto\; font-size: 18px\;" title=""><strong style="-webkit-font-smoothing: antialiased\;">What will I Need?</strong><br style="-webkit-font-smoothing: antialiased\;" />\nYou will need to bring a laptop if you&#39\;d like to follow along on the steps in realtime.</span></p>\n</div>\n
LOCATION:Board Room Henderson County Chamber of Commerce 204 Kanuga Road Hendersonville\, NC 28739
UID:e.2975.5551
SEQUENCE:3
DTSTAMP:20260419T221159Z
URL:https://business.hendersoncountychamber.org/events/details/canceled-constant-contact-bootcamp-with-aaron-wesley-means-5551
END:VEVENT

END:VCALENDAR
