BEGIN:VCALENDAR
VERSION:2.0
PRODID:-//ChamberMaster//Event Calendar 2.0//EN
METHOD:PUBLISH
X-PUBLISHED-TTL:P3D
REFRESH-INTERVAL:P3D
CALSCALE:GREGORIAN
BEGIN:VEVENT
DTSTART:20230303T150000Z
DTEND:20230303T160000Z
X-MICROSOFT-CDO-ALLDAYEVENT:FALSE
SUMMARY:**Canceled** Ground Breaking: Bullington Gardens New Parking Lot
DESCRIPTION:Please join us in the Ground Breaking Ceremony of Bullington Gardens\, a nonprofit botanical garden in Hendersonville\, NC. Their mission is to connect children and adults with natural world through science based horticultural education\; to demonstrate the beauty of plants\, and to enhance life skills for those with challenges through horticultural therapy.\n\n\n\nThis Ground Breaking Ceremony is to thank donors who gave funding for the new parking lot\, Perry Rudnick Foundation/Community Foundation of Henderson County.
X-ALT-DESC;FMTTYPE=text/html:<font color="#1d2129" face="Helvetica\, Arial\, sans-serif"><span style="font-size: 14px\; white-space: pre-wrap\;">Please join us in the Ground Breaking Ceremony of Bullington Gardens\, a nonprofit botanical garden in Hendersonville\, NC. Their mission is to connect children and adults with natural world through science based horticultural education\; to demonstrate the beauty of plants\, and to enhance life skills for those with challenges through horticultural therapy.<br />\n<br />\nThis Ground Breaking Ceremony is to thank donors who gave funding for the new parking lot\, Perry Rudnick Foundation/Community Foundation of Henderson County. </span></font>
LOCATION:95 Upper Red Oak Trail\, Hendersonville
UID:e.2975.5332
SEQUENCE:3
DTSTAMP:20260422T111331Z
URL:https://business.hendersoncountychamber.org/events/details/canceled-ground-breaking-bullington-gardens-new-parking-lot-5332
END:VEVENT

END:VCALENDAR
