BEGIN:VCALENDAR
VERSION:2.0
PRODID:-//ChamberMaster//Event Calendar 2.0//EN
METHOD:PUBLISH
X-PUBLISHED-TTL:P3D
REFRESH-INTERVAL:P3D
CALSCALE:GREGORIAN
BEGIN:VEVENT
DTSTART:20230531T160000Z
DTEND:20230531T170000Z
X-MICROSOFT-CDO-ALLDAYEVENT:FALSE
SUMMARY:**Canceled** Ribbon Cutting: Church Street Funeral and Cremation
DESCRIPTION:Join us as we celebrate the opening of Church Street Funeral & Cremation with a Ribbon Cutting!\n\n\n\nFormerly known as the Thos. Shepherd & Son Funeral Directors\, Church Street Funeral & Cremation is here to serve and support our local community. They strive to be the best to deliver services tailored to your needs though life's difficult stages of gief\, with genuine staff who are ready to support and guide. \n\n\n\nThank you to Duke Energy for being the Presenting Sponsor of 2023 Ribbon Cuttings!
X-ALT-DESC;FMTTYPE=text/html:<span style="font-family: inherit\; caret-color: auto\;">&nbsp\;Join us as we celebrate the opening of Church Street Funeral &amp\; Cremation with a Ribbon Cutting!<br />\n<br />\nFormerly known as the Thos. Shepherd &amp\; Son Funeral Directors\, Church Street Funeral &amp\; Cremation is here to serve and support our local community. They strive to be the best to deliver services tailored to your needs though life&#39\;s difficult stages of gief\, with genuine staff who are ready to support and guide.&nbsp\;</span><br />\n<br />\nThank you to Duke Energy for being the Presenting Sponsor of 2023 Ribbon Cuttings!
LOCATION:Church Street Funeral & Cremation | 125 S Church St\, Hendersonville
UID:e.2975.5548
SEQUENCE:3
DTSTAMP:20260422T094502Z
URL:https://business.hendersoncountychamber.org/events/details/canceled-ribbon-cutting-church-street-funeral-and-cremation-5548
END:VEVENT

END:VCALENDAR
