BEGIN:VCALENDAR
VERSION:2.0
PRODID:-//ChamberMaster//Event Calendar 2.0//EN
METHOD:PUBLISH
X-PUBLISHED-TTL:P3D
REFRESH-INTERVAL:P3D
CALSCALE:GREGORIAN
BEGIN:VEVENT
DTSTART:20230512T153000Z
DTEND:20230512T173000Z
X-MICROSOFT-CDO-ALLDAYEVENT:FALSE
SUMMARY:*Canceled* Ribbon Cutting: Meliora Cabinetry
DESCRIPTION:Join us as we celebrate Meliora Cabinetry's New Showroom with a Ribbon Cutting!\n\n\n\n"Always Better\," or Meliora in Latin\, is what Meliora Cabinetry strives for in their everyday designs and customer service. As a family-owned business based in Hendersonville\, NC\, Meliora Cabinetry specializes in designing and building custom cabinets and furniture for homes and businesses. They are known for their high-quality craftsmanship\, attention to detail\, and dedicated to creating beautiful and functional pieces that enhance the look and feel of any space. \n\n\n\nThank you to Duke Energy for being the Presenting Sponsor of 2023 Ribbon Cuttings!
X-ALT-DESC;FMTTYPE=text/html:Join us as we celebrate Meliora Cabinetry&#39\;s New Showroom with a Ribbon Cutting!<br />\n<br />\n&quot\;Always Better\,&quot\; or Meliora in Latin\, is what Meliora Cabinetry strives for in their everyday designs and customer service. As a family-owned business based in Hendersonville\, NC\, Meliora Cabinetry specializes in designing and building custom cabinets and furniture for homes and businesses. They are known for their high-quality craftsmanship\, attention to detail\, and dedicated to creating beautiful and functional pieces that enhance the look and feel of any space.&nbsp\;<br />\n<br />\nThank you to <a href="https://www.duke-energy.com">Duke Energy</a> for being the Presenting Sponsor of 2023 Ribbon Cuttings!
LOCATION:Meliora Cabinetry | 427 N Church St\, Hendersonville
UID:e.2975.5536
SEQUENCE:3
DTSTAMP:20260422T091132Z
URL:https://business.hendersoncountychamber.org/events/details/canceled-ribbon-cutting-meliora-cabinetry-5536
END:VEVENT

END:VCALENDAR
