BEGIN:VCALENDAR
VERSION:2.0
PRODID:-//ChamberMaster//Event Calendar 2.0//EN
METHOD:PUBLISH
X-PUBLISHED-TTL:P3D
REFRESH-INTERVAL:P3D
CALSCALE:GREGORIAN
BEGIN:VEVENT
DTSTART:20231106T223000Z
DTEND:20231107T003000Z
X-MICROSOFT-CDO-ALLDAYEVENT:FALSE
SUMMARY:**Canceled** Vision Alumni Presents Stems and Steins: Oktoberfest Soiree
DESCRIPTION:Prepare to don your lederhosen and raise your beer steins high at our extraordinary fundraiser\, Stems and Steins: Oktoberfest Siree. This unique event combines the vibrant spirit of Oktoberfest with a commitment to making a positive impact in our community. An unforgettable evening that promises lively music\, delectable German Cuisine\, courtesy of our host\, and a shared dedication to supporting Thrive and Housing Assistance Corporation. \n\n\n\nWhile you're enjoying the lively atmosphere\, delicious food\, and refreshing beverages\, remember that every toast you make contributes to a brighter future. All proceeds from this event will directly benefit Thrive and Housing Assistance Cooperation\, two organizations dedicated to providing essential housing and support services to those in need within our community. \n\n\n\nEmbrace the Oktoberfest theme by dressing in your best lederhosen\, dirndls\, or your favorite Bavarian-inspired outfits. Prizes will be awarded for the most creatively dressed attendees. \n\n\n\nTickets for our Stems and Steins: Oktoberfest Soiree are limited\, so don't miss your chance to be part of this unique celebration.
X-ALT-DESC;FMTTYPE=text/html:Prepare to don your lederhosen and raise your beer steins high at our extraordinary fundraiser\, Stems and Steins: Oktoberfest Siree. This unique event combines the vibrant spirit of Oktoberfest with a commitment to making a positive impact in our community. An unforgettable evening that promises lively music\, delectable German Cuisine\, courtesy of our host\, and a shared dedication to supporting Thrive and Housing Assistance Corporation.&nbsp\;<br />\n<br />\nWhile you&#39\;re enjoying the lively atmosphere\, delicious food\, and refreshing beverages\, remember that every toast you make contributes to a brighter future. All proceeds from this event will directly benefit Thrive and Housing Assistance Cooperation\, two organizations dedicated to providing essential housing and support services to those in need within our community.&nbsp\;<br />\n<br />\nEmbrace the Oktoberfest theme by dressing in your best lederhosen\, dirndls\, or your favorite Bavarian-inspired outfits. Prizes will be awarded for the most creatively dressed attendees.&nbsp\;<br />\n<br />\nTickets for our Stems and Steins: Oktoberfest Soiree are limited\, so don&#39\;t miss your chance to be part of this unique celebration.&nbsp\;
LOCATION:Guidon Brewing Co | 415 8th Ave E\, Hendersonville
UID:e.2975.6169
SEQUENCE:3
DTSTAMP:20260419T131015Z
URL:https://business.hendersoncountychamber.org/events/details/canceled-vision-alumni-presents-stems-and-steins-oktoberfest-soiree-6169
END:VEVENT

END:VCALENDAR
