BEGIN:VCALENDAR
VERSION:2.0
PRODID:-//ChamberMaster//Event Calendar 2.0//EN
METHOD:PUBLISH
X-PUBLISHED-TTL:P3D
REFRESH-INTERVAL:P3D
CALSCALE:GREGORIAN
BEGIN:VEVENT
DTSTART:20230728T140000Z
DTEND:20230728T160000Z
X-MICROSOFT-CDO-ALLDAYEVENT:FALSE
SUMMARY:**Caneceled** Seminar Series: HR Best Practices
DESCRIPTION:Employers today face many new\, and newly enforced\, workplace challenges. This presentation will help employers navigate the employment relationship.\n\n\n\n \n\n	The Hiring Process   Stop Problems Before they Begin\n	Employee Handbooks   Stop Creating Unnecessary Headaches for Yourself\n	At-Will Employment   Stop Making It Complicated\n	Wage and Hour Basics   Stop Making Compliance Mistakes\n\n\n\nOur speaker:\n\nStephen Williamson\, Attorney\, The Van Winkle Law Firm\n\nStephen Williamson is a principal at The Van Winkle Law Firm where he specializes in assisting employers with employment issues and disputes before a multitude of regulatory agencies and in both state and federal court. He is known for helping employers resolve workplace conflicts and avoid litigation and for providing a vigorous defense when litigation occurs.
X-ALT-DESC;FMTTYPE=text/html:<span style="color:#333333\;">Employers today face many new\, and newly enforced\, workplace challenges. This presentation will help employers navigate the employment relationship.</span><br />\n<br />\n&nbsp\;\n<ul>\n	<li style="margin-left:0in\;">The Hiring Process &ndash\; Stop Problems Before they Begin</li>\n	<li style="margin-left:0in\;">Employee Handbooks &ndash\; Stop Creating Unnecessary Headaches for Yourself</li>\n	<li style="margin-left:0in\;">At-Will Employment &ndash\; Stop Making It Complicated</li>\n	<li style="margin-left:0in\;">Wage and Hour Basics &ndash\; Stop Making Compliance Mistakes</li>\n</ul>\n<br />\n<span style="color:#333333\;">Our speaker:<br />\nStephen Williamson\, Attorney\, The Van Winkle Law Firm<br />\nStephen Williamson is a principal at The Van Winkle Law Firm where he specializes in assisting employers with employment issues and disputes before a multitude of regulatory agencies and in both state and federal court. He is known for helping employers resolve workplace conflicts and avoid litigation and for providing a vigorous defense when litigation occurs.</span><br />\n&nbsp\;
LOCATION:The Chamber | 204 Kanuga Rd\, Hendersonville
UID:e.2975.5851
SEQUENCE:3
DTSTAMP:20260419T201323Z
URL:https://business.hendersoncountychamber.org/events/details/caneceled-seminar-series-hr-best-practices-5851
END:VEVENT

END:VCALENDAR
