BEGIN:VCALENDAR
VERSION:2.0
PRODID:-//ChamberMaster//Event Calendar 2.0//EN
METHOD:PUBLISH
X-PUBLISHED-TTL:P3D
REFRESH-INTERVAL:P3D
CALSCALE:GREGORIAN
BEGIN:VEVENT
DTSTART:20230224T160000Z
DTEND:20230224T170000Z
X-MICROSOFT-CDO-ALLDAYEVENT:FALSE
SUMMARY:Chamber Connect: Unlocking the Benefits Seminar
DESCRIPTION:Chamber Connect: Unlocking the Benefits Seminar\n\n \n\nJoin us for an informative session to learn how to customize your membership experience.  This is a great program for Chamber members who want to get more involved and learn more about Chamber benefits as well as for those considering membership. You'll learn how to take advantage of our dynamic networking opportunities and how to get the most out of your membership.\n\n \n\nGetting involved with programs and events will connect you to the information and people that will increase the value of your membership.\n\n \n\nJared Bellmund will be leading the discussion\, providing tips and tricks on how to successfully network. Jared has been networking in Henderson County for over a decade and serves on the Henderson County Chamber of Commerce Board of Directors as the Division Chair for Business Development. He is the past President of the Fletcher Area Business Association and currently serves on the City of Hendersonville Downtown Advisory Board.\n\n\n\nJared believes participation is key\, because the Chamber is best when you use it!
X-ALT-DESC;FMTTYPE=text/html:<strong><span style="font-size:12.0pt\;">Chamber Connect: Unlocking the Benefits Seminar</span></strong><br />\n&nbsp\;<br />\nJoin us for an informative session to learn how to customize your membership experience.&nbsp\; This is a great program for Chamber members who want to get more involved and learn more about Chamber benefits as well as for those considering membership. You&rsquo\;ll learn how to take advantage of our dynamic networking opportunities and how to get the most out of your membership.<br />\n&nbsp\;<br />\nGetting involved with programs and events will connect you to the information and people that will increase the value of your membership.<br />\n&nbsp\;<br />\nJared Bellmund will be leading the discussion\, providing tips and tricks on how to successfully network. Jared has been networking in Henderson County for over a decade and serves on the Henderson County Chamber of Commerce Board of Directors as the Division Chair for Business Development. He is the past President of the Fletcher Area Business Association and currently serves on the City of Hendersonville Downtown Advisory Board.<br />\n<br />\nJared believes participation is key\, because the Chamber is best when you use it!
LOCATION:The Chamber | 204 Kanuga Rd\, Hendersonville
UID:e.2975.5329
SEQUENCE:3
DTSTAMP:20260422T123741Z
URL:https://business.hendersoncountychamber.org/events/details/chamber-connect-unlocking-the-benefits-seminar-5329
END:VEVENT

END:VCALENDAR
