BEGIN:VCALENDAR
VERSION:2.0
PRODID:-//ChamberMaster//Event Calendar 2.0//EN
METHOD:PUBLISH
X-PUBLISHED-TTL:P3D
REFRESH-INTERVAL:P3D
CALSCALE:GREGORIAN
BEGIN:VEVENT
DTSTART:20230321T213000Z
DTEND:20230322T000000Z
X-MICROSOFT-CDO-ALLDAYEVENT:FALSE
SUMMARY:Chamber Trivia Challenge
DESCRIPTION:The Annual Chamber Trivia Challenge\, sponsored by AdventHealth Hendersonville\, Hannah Flannigan's and Big Frog Custom T-Shirts\, will be held on Tuesday\, March 21st\, beginning at 5:30 PM.\n\n \n\nTeams of four will compete in three rounds of Q&A with trivia questions containing pop culture from the 60's\, 70's\, 80's\, and 90's.\n\nProceeds from the Trivia Challenge will support the Workforce Development Division and Education efforts of the Henderson County Chamber of Commerce.\n\nDownload the registration form\, 2023 Chamber Trivia Challenge Form\, complete and return to Amy Muniz at the Chamber.\n\nWant to look snazzy? Our Supporting Sponsor\, Big Frog Custom T-Shirts\, would like to see everyone in full color\, customized shirts specific to your team. You can buy four team shirts with one sided print for $10 each (plus tax). **Direct to garment print. XXL and larger are additional as other garments.
X-ALT-DESC;FMTTYPE=text/html:<p style="box-sizing: inherit\; margin: 0px 0px 1.25rem\; padding: 0px\; font-variant-numeric: normal\; font-variant-east-asian: normal\; font-stretch: normal\; font-size: 1.125rem\; line-height: 1.6\; font-family: Lato\, sans-serif\; text-rendering: optimizelegibility\; color: rgb(77\, 77\, 77)\; text-align: center\;">The Annual Chamber Trivia Challenge\, sponsored by&nbsp\;<a href="https://www.adventhealth.com/hospital/adventhealth-hendersonville" style="box-sizing: inherit\; color: rgb(36\, 73\, 158)\; line-height: inherit\; text-decoration-line: none\;">AdventHealth Hendersonville</a>\,&nbsp\;<a href="http://theoriginalhannahflanagans.com/" style="box-sizing: inherit\; color: rgb(36\, 73\, 158)\; line-height: inherit\; text-decoration-line: none\;">Hannah Flannigan&#39\;s</a>&nbsp\;and&nbsp\;<a href="https://www.bigfrog.com/asheville/?y_source=1_MTU5NTc0NDAtNzE1LWxvY2F0aW9uLndlYnNpdGU%3D" style="box-sizing: inherit\; color: rgb(36\, 73\, 158)\; line-height: inherit\; text-decoration-line: none\;">Big Frog Custom T-Shirts</a>\, will be held on Tuesday\, March 21st\, beginning at 5:30 PM.<br style="box-sizing: inherit\;" />\n&nbsp\;</p>\n\n<p style="box-sizing: inherit\; margin: 0px 0px 1.25rem\; padding: 0px\; font-variant-numeric: normal\; font-variant-east-asian: normal\; font-stretch: normal\; font-size: 1.125rem\; line-height: 1.6\; font-family: Lato\, sans-serif\; text-rendering: optimizelegibility\; color: rgb(77\, 77\, 77)\; text-align: center\;">Teams of four will compete in three rounds of Q&amp\;A with trivia questions containing pop culture from the 60&#39\;s\, 70&#39\;s\, 80&#39\;s\, and 90&#39\;s.</p>\n\n<p style="box-sizing: inherit\; margin: 0px 0px 1.25rem\; padding: 0px\; font-variant-numeric: normal\; font-variant-east-asian: normal\; font-stretch: normal\; font-size: 1.125rem\; line-height: 1.6\; font-family: Lato\, sans-serif\; text-rendering: optimizelegibility\; color: rgb(77\, 77\, 77)\; text-align: center\;">Proceeds from the Trivia Challenge will support the Workforce Development Division and Education efforts of the Henderson County Chamber of Commerce.</p>\n\n<p style="box-sizing: inherit\; margin: 0px 0px 1.25rem\; padding: 0px\; font-variant-numeric: normal\; font-variant-east-asian: normal\; font-stretch: normal\; font-size: 1.125rem\; line-height: 1.6\; font-family: Lato\, sans-serif\; text-rendering: optimizelegibility\; color: rgb(77\, 77\, 77)\; text-align: center\;">Download the registration form\,&nbsp\;<strong style="box-sizing: inherit\; line-height: inherit\;"><a href="https://chambermaster.blob.core.windows.net/userfiles/UserFiles/chambers/2975/File/Trivia2023.pdf" style="box-sizing: inherit\; color: rgb(36\, 73\, 158)\; line-height: inherit\; text-decoration-line: none\;">2023 Chamber Trivia Challenge Form</a>\,&nbsp\;</strong>complete and return to&nbsp\;Amy Muniz at the Chamber.</p>\n\n<p class="_04xlpA direction-ltr align-center para-style-body" style="box-sizing: inherit\; margin: 0px 0px 1.25rem\; padding: 0px\; font-variant-numeric: normal\; font-variant-east-asian: normal\; font-stretch: normal\; font-size: 1.125rem\; line-height: 1.6\; font-family: Lato\, sans-serif\; text-rendering: optimizelegibility\; color: rgb(77\, 77\, 77)\; text-align: center\;">Want to look snazzy?&nbsp\;Our Supporting Sponsor\, Big Frog Custom T-Shirts\, would like to see everyone in full color\, customized shirts specific to your team. You can buy four team shirts with one sided print for $10 each (plus tax). **Direct to garment print. XXL and larger are additional as other garments.</p>\n
LOCATION:Prescott Auto Reserve 37 Maxwell Dr\, Hendersonville
UID:e.2975.5214
SEQUENCE:3
DTSTAMP:20260422T105910Z
URL:https://business.hendersoncountychamber.org/events/details/chamber-trivia-challenge-5214
END:VEVENT

END:VCALENDAR
