BEGIN:VCALENDAR
VERSION:2.0
PRODID:-//ChamberMaster//Event Calendar 2.0//EN
METHOD:PUBLISH
X-PUBLISHED-TTL:P3D
REFRESH-INTERVAL:P3D
CALSCALE:GREGORIAN
BEGIN:VEVENT
DTSTART:20230718T200000Z
DTEND:20230718T210000Z
X-MICROSOFT-CDO-ALLDAYEVENT:FALSE
SUMMARY:City of Hendersonville Community Connection Workshop
DESCRIPTION:The Business of Implicit Association: This Engaging and thought-provoking interactive workshop explores the concepts of message permeation\, cultural perception and corporate identity. Participants will examine the complex and nuanced role of implicit association within foundational business processes and will be able to develop professional practices based upon proven critical/social reasoning. \n\n\n\nHendersonville Community Workshops are based upon the conviction that the perspectives\, lived experiences and expectations of all community members are fundamentally essential to transformational and sustainable positive change. The scope and direction of these workshops is focused specifically on fostering community connections. \n\n\n\nCheck out the other workshops throughout the week HERE.
X-ALT-DESC;FMTTYPE=text/html:The Business of Implicit Association: This Engaging and thought-provoking interactive workshop explores the concepts of message permeation\, cultural perception and corporate identity. Participants will examine the complex and nuanced role of implicit association within foundational business processes and will be able to develop professional practices based upon proven critical/social reasoning.&nbsp\;<br />\n<br />\nHendersonville Community Workshops are based upon the conviction that the perspectives\, lived experiences and expectations of all community members are fundamentally essential to transformational and sustainable positive change. The scope and direction of these workshops is focused specifically on fostering community connections.&nbsp\;<br />\n<br />\nCheck out the other workshops throughout the week <a href="https://www.hendersonvillenc.gov/news/community-connection-workshops">HERE</a>.&nbsp\;<br />\n<br />\n&nbsp\;
LOCATION:Henderson County Chamber | 204 Kanuga Rd\, Hendersonville
UID:e.2975.5847
SEQUENCE:3
DTSTAMP:20260419T201805Z
URL:https://business.hendersoncountychamber.org/events/details/city-of-hendersonville-community-connection-workshop-5847
END:VEVENT

END:VCALENDAR
