BEGIN:VCALENDAR
VERSION:2.0
PRODID:-//ChamberMaster//Event Calendar 2.0//EN
METHOD:PUBLISH
X-PUBLISHED-TTL:P3D
REFRESH-INTERVAL:P3D
CALSCALE:GREGORIAN
BEGIN:VEVENT
DTSTART;VALUE=DATE:20221018
DTEND;VALUE=DATE:20221019
TRANSP:TRANSPARENT
X-MICROSOFT-CDO-ALLDAYEVENT:TRUE
SUMMARY:COAHC Silent Auction
DESCRIPTION:Looking for a way to give back to the community while also finding a great experience or item for your home? The Council on Aging for Henderson County is hosting a virtual silent auction until October 23rd! You can find items like a deep sea fishing pole\, NASCAR Experience tickers\, weekend vacation packages on the bourbon trail\, and so much more! Check it out today and place your bids! Proceeds will go back into the Support Services Department\, which needs funding help to continue providing essential resources like caregiver respite\, senior companion\, and so much more. The aging community of Henderson County needs your help! Place your bids today!
X-ALT-DESC;FMTTYPE=text/html:Looking for a way to give back to the community while also finding a great experience or item for your home? The Council on Aging for Henderson County is hosting a virtual silent auction until October 23rd! You can find items like a deep sea fishing pole\, NASCAR Experience tickers\, weekend vacation packages on the bourbon trail\, and so much more! Check it out today and place your bids! Proceeds will go back into the Support Services Department\, which needs funding help to continue providing essential resources like caregiver respite\, senior companion\, and so much more. The aging community of Henderson County needs your help! Place your bids today!
LOCATION:Virtual
UID:e.2975.4641
SEQUENCE:3
DTSTAMP:20260422T220657Z
URL:https://business.hendersoncountychamber.org/events/details/coahc-silent-auction-10-18-2022-4641
END:VEVENT

END:VCALENDAR
