BEGIN:VCALENDAR
VERSION:2.0
PRODID:-//ChamberMaster//Event Calendar 2.0//EN
METHOD:PUBLISH
X-PUBLISHED-TTL:P3D
REFRESH-INTERVAL:P3D
CALSCALE:GREGORIAN
BEGIN:VEVENT
DTSTART:20231024T194500Z
DTEND:20231024T213000Z
X-MICROSOFT-CDO-ALLDAYEVENT:FALSE
SUMMARY:College Preparation Workshop
DESCRIPTION:Join us Tuesday\, October 24 3:45-5:30 at the Hendersonville Family YMCA (810 6th Ave W) for a workshop about applying for college. Devon from the College Foundation of NC will introduce us to a variety of online tools and will answer questions about applying for college and financial aid. Please bring a laptop if you are able so you can follow along. This workshop is tailored to high school juniors and seniors. \n \n\nWe will have additional workshops that focus on choosing a career. The next two dates are Tuesday\, 11/28 and Tuesday\, 1/30 at the YMCA. All high school students are welcome.
X-ALT-DESC;FMTTYPE=text/html:<span style="color:rgb(32\, 33\, 36)\; font-family:roboto\,arial\,sans-serif\; font-size:14.6667px">Join us Tuesday\, October 24 3:45-5:30 at the Hendersonville Family YMCA (810 6th Ave W)&nbsp\;for a workshop about applying for college. Devon from the College Foundation of NC will introduce us to a variety of online tools and will answer questions about applying for college and financial aid. Please bring a laptop if you are able so you can follow along. This workshop is tailored to high school juniors and seniors.&nbsp\;</span>\n<div>&nbsp\;</div>\n\n<div>We will have additional workshops that focus on choosing a career. The next two dates are Tuesday\, 11/28 and Tuesday\, 1/30 at the YMCA. All high school students are welcome.&nbsp\;<br />\n<br />\n&nbsp\;</div>\n
LOCATION:The YMCA of Hendersonville
UID:e.2975.6178
SEQUENCE:3
DTSTAMP:20260419T143942Z
URL:https://business.hendersoncountychamber.org/events/details/college-preparation-workshop-6178
END:VEVENT

END:VCALENDAR
