BEGIN:VCALENDAR
VERSION:2.0
PRODID:-//ChamberMaster//Event Calendar 2.0//EN
METHOD:PUBLISH
X-PUBLISHED-TTL:P3D
REFRESH-INTERVAL:P3D
CALSCALE:GREGORIAN
BEGIN:VEVENT
DTSTART:20230421T113000Z
DTEND:20230421T130000Z
X-MICROSOFT-CDO-ALLDAYEVENT:FALSE
SUMMARY:Community Builders Breakfast
DESCRIPTION:Join us to celebrate the achievements of Henderson partners in affordable housing with Habitat for Henderson County Habitat Community Builders Breakfast. This short\, inspirational breakfast will highlight Habitat homeowners\, volunteers\, and supporters sharing their stories of coming together to build homes\, communities\, and hope. You'll see how your support of Henderson County Habitat over the last 33 years has contributed to building over 250 homes for families in our community and how that support has created an impact on not only the homeowner family but on our community as a whole. This fun\, one-hour breakfast will help us raise money for infrastructure in phases 6 and 3\, which will allow us to build an additional 35 homes.\n\nBreakfast will be provided by Season of Highland Lake. Our Keynote speaker will be Kieran Roe of Conserving Carolina\, Kieran will present on the partnership between Conserving Carolina and Henderson County Habitat for Humanity.
X-ALT-DESC;FMTTYPE=text/html:<span style="color:#222222"><span style="font-family:arial\,sans-serif"><span style="font-size:12.0pt">Join us to celebrate the achievements of Henderson partners in affordable housing with Habitat for Henderson County Habitat Community Builders Breakfast. This short\, inspirational breakfast will highlight Habitat homeowners\, volunteers\, and supporters sharing their stories of coming together to build homes\, communities\, and hope. You&#39\;ll see how your support of Henderson County Habitat over the last 33 years has contributed to building over 250 homes for families in our community and how that support has created an impact on not only the homeowner family but on our community as a whole. This fun\, one-hour breakfast will help us raise money for infrastructure in phases 6 and 3\, which will allow us to build an additional 35 homes.</span></span></span><br />\n<span style="color:#222222"><span style="font-family:arial\,sans-serif"><span style="font-size:12.0pt">Breakfast will be provided by Season of Highland Lake. Our Keynote speaker will be Kieran Roe of Conserving Carolina\, </span></span></span><span style="color:#202124"><span style="font-family:arial\,sans-serif"><span style="font-size:12.0pt">Kieran will present on the partnership between Conserving Carolina and Henderson County Habitat for Humanity.</span></span></span>
LOCATION:Highland Lake Inn & Resort (Grand Ole Hall)
UID:e.2975.5360
SEQUENCE:3
DTSTAMP:20260422T091758Z
URL:https://business.hendersoncountychamber.org/events/details/community-builders-breakfast-5360
END:VEVENT

END:VCALENDAR
