BEGIN:VCALENDAR
VERSION:2.0
PRODID:-//ChamberMaster//Event Calendar 2.0//EN
METHOD:PUBLISH
X-PUBLISHED-TTL:P3D
REFRESH-INTERVAL:P3D
CALSCALE:GREGORIAN
BEGIN:VEVENT
DTSTART:20221004T203000Z
DTEND:20221004T213000Z
X-MICROSOFT-CDO-ALLDAYEVENT:FALSE
SUMMARY:Empower Hour
DESCRIPTION:Celebrate the women in you life with women-centric networking. Athena of Henderson County presents this unique and informal networking opportunity designed to inspire and connect women. No entrance fee - just bring your business cards and enjoy expanding your network!
X-ALT-DESC;FMTTYPE=text/html:<span style="color:#3C245E\;"><span style="font-family:georgia\,serif\;"><span style="font-size:12.0pt\;">Celebrate the women in you life with women-centric networking. Athena of Henderson County presents this unique and informal networking opportunity designed to inspire and connect women. No entrance fee - just bring your business cards and enjoy expanding your network!</span></span></span>
LOCATION:Hola Carolina 801 Fourth Ave. East\, Hendersonville (Located in Jackson Park)
UID:e.2975.4586
SEQUENCE:3
DTSTAMP:20260422T220335Z
URL:https://business.hendersoncountychamber.org/events/details/empower-hour-4586
END:VEVENT

END:VCALENDAR
