BEGIN:VCALENDAR
VERSION:2.0
PRODID:-//ChamberMaster//Event Calendar 2.0//EN
METHOD:PUBLISH
X-PUBLISHED-TTL:P3D
REFRESH-INTERVAL:P3D
CALSCALE:GREGORIAN
BEGIN:VEVENT
DTSTART:20230425T203000Z
DTEND:20230425T213000Z
X-MICROSOFT-CDO-ALLDAYEVENT:FALSE
SUMMARY:Empower Hour
DESCRIPTION:Celebrate the women in your life with women-centric networking. Athena of Henderson County presents this unique and informal networking opportunity designed to inspire and connect women. No entrance fee - just bring your business cards and enjoy expanding your network!\n\n\n\nAll Empower Hours are Presented by Beverly-Hanks & Associates - Ali Thomas.
X-ALT-DESC;FMTTYPE=text/html:<span style="color:#3C245E\;"><span style="font-family:georgia\,serif\;"><span style="font-size:12.0pt\;">Celebrate the women in your life with women-centric networking. Athena of Henderson County presents this unique and informal networking opportunity designed to inspire and connect women. No entrance fee - just bring your business cards and enjoy expanding your network!<br />\n<br />\nAll Empower Hours are Presented by Beverly-Hanks &amp\; Associates - Ali Thomas.&nbsp\;</span></span></span>
LOCATION:SKYLARANNA 2075 N Rugby Rd Hendersonville
UID:e.2975.5529
SEQUENCE:3
DTSTAMP:20260422T091750Z
URL:https://business.hendersoncountychamber.org/events/details/empower-hour-5529
END:VEVENT

END:VCALENDAR
