BEGIN:VCALENDAR
VERSION:2.0
PRODID:-//ChamberMaster//Event Calendar 2.0//EN
METHOD:PUBLISH
X-PUBLISHED-TTL:P3D
REFRESH-INTERVAL:P3D
CALSCALE:GREGORIAN
BEGIN:VEVENT
DTSTART:20230726T203000Z
DTEND:20230726T213000Z
X-MICROSOFT-CDO-ALLDAYEVENT:FALSE
SUMMARY:Empower Hour
DESCRIPTION:Celebrate the women in your life with women-centric networking. Athena of Henderson County presents this unique and informal networking opportunity designed to inspire and connect women. No entrance fee - just bring your business cards and enjoy expanding your network! \n\n\n\nJoin us this month at the Henderson County EMS Center with host\, Kathy Morgan\, 2021 Athena Recipient and first female Henderson County Rescue Squad Chief. Along with networking\, we'll have the chance to tour this facility and learn about the services and support the Henderson County Emergency Medical Services provides throughout our community! \n\n\n\nLight Bites provided courtesy of Friends & Neighbors Dining! \n\n\n\n2023 Empower Hours are Presented by Beverly-Hanks & Associates - Ali Thomas.
X-ALT-DESC;FMTTYPE=text/html:<p><small><span style="color:#000080\;"><span style="font-size:14px\;"><span style="font-family:arial\;">Celebrate the women in your life with women-centric networking. Athena of Henderson County presents this unique and informal networking opportunity designed to inspire and connect women. No entrance fee - just bring your business cards and enjoy expanding your network!&nbsp\;</span></span><br />\n<br />\n<span style="font-family: arial\; font-size: 14px\;">Join us this month at the Henderson County EMS Center with host\, Kathy Morgan\, 2021 Athena Recipient and first female Henderson County Rescue Squad Chief. Along with networking\, we&#39\;ll have the chance to tour this facility and learn about the services and support the Henderson County Emergency Medical Services provides throughout our community!&nbsp\;</span></span><br />\n<br />\n<span style="font-family: arial\; font-size: 14px\; color: rgb(0\, 0\, 128)\;">Light Bites provided courtesy of Friends &amp\; Neighbors Dining!&nbsp\;</span><br />\n<br />\n<span style="color:#000080\;"><span style="font-size:14px\;"><span style="font-family:arial\;">2023 Empower Hours are Presented by Beverly-Hanks &amp\; Associates - Ali Thomas.&nbsp\;</span></span></span></small></p>\n
LOCATION:Henderson County Emergency Medical Services Center 2529 Asheville HWY Hendersonville\, NC
UID:e.2975.5791
SEQUENCE:3
DTSTAMP:20260419T201055Z
URL:https://business.hendersoncountychamber.org/events/details/empower-hour-5791
END:VEVENT

END:VCALENDAR
