BEGIN:VCALENDAR
VERSION:2.0
PRODID:-//ChamberMaster//Event Calendar 2.0//EN
METHOD:PUBLISH
X-PUBLISHED-TTL:P3D
REFRESH-INTERVAL:P3D
CALSCALE:GREGORIAN
BEGIN:VEVENT
DTSTART:20231107T213000Z
DTEND:20231107T223000Z
X-MICROSOFT-CDO-ALLDAYEVENT:FALSE
SUMMARY:Empower Hour
DESCRIPTION:Celebrate the women in your life with women-centric networking. Athena of Henderson County presents this unique and informal networking opportunity designed to inspire and connect women. No entrance fee - just bring your business cards and enjoy expanding your network! \n\n\n\nJoin us this month at The Main Event\, the new downtown venue\, owned and operated by Brittany Bettini. \n\n\n\n2023 Empower Hours are Presented by Beverly-Hanks & Associates - Ali Thomas.
X-ALT-DESC;FMTTYPE=text/html:<p><small><span style="color:#000080\;"><span style="font-size:14px\;"><span style="font-family:arial\;">Celebrate the women in your life with women-centric networking. Athena of Henderson County presents this unique and informal networking opportunity designed to inspire and connect women. No entrance fee - just bring your business cards and enjoy expanding your network!&nbsp\;<br />\n<br />\nJoin us this month at The Main Event\, the new downtown venue\, owned and operated by Brittany Bettini.&nbsp\;</span></span></span><br />\n<br />\n<span style="color:#000080\;"><span style="font-size:14px\;"><span style="font-family:arial\;">2023 Empower Hours are Presented by Beverly-Hanks &amp\; Associates - Ali Thomas.&nbsp\;</span></span></span></small></p>\n
LOCATION:The Main Event 125 S Main St Hendersonville\, NC
UID:e.2975.6181
SEQUENCE:3
DTSTAMP:20260419T130516Z
URL:https://business.hendersoncountychamber.org/events/details/empower-hour-6181
END:VEVENT

END:VCALENDAR
