BEGIN:VCALENDAR
VERSION:2.0
PRODID:-//ChamberMaster//Event Calendar 2.0//EN
METHOD:PUBLISH
X-PUBLISHED-TTL:P3D
REFRESH-INTERVAL:P3D
CALSCALE:GREGORIAN
BEGIN:VEVENT
DTSTART:20230714T210000Z
DTEND:20230716T150000Z
X-MICROSOFT-CDO-ALLDAYEVENT:FALSE
SUMMARY:Empowered Woman MIndfulness and Wellness Retreat
DESCRIPTION:Connect with your true Strength\, Beauty\, Spirit\n\n\n\nTAKE A DEEP DIVE INTO YOUR MIND\n\nDiscover who you are beyond the attachments and limiting beliefs that are weighing you down and keeping you from truly living an empowered and authentic life\n\n\n\nTAKE A DEEP DIVE INTO YOUR BODY\n\nLearn ways to stop living in your head and start living fully in the present as you minimize your inner critic and reframe your internal script.\n\n\n\nTAKE A DEEP DIVE INTO YOUR SOUL\n\nExplore techniques that will awaken your personal power and help you create the life you desire.
X-ALT-DESC;FMTTYPE=text/html:<div>\n<h2><span style="color:rgb(var(--color_19))">Connect with your true Strength\, Beauty\, Spirit</span></h2>\n</div>\n\n<div>\n<p><strong>TAKE A&nbsp\;DEEP DIVE INTO YOUR MIND</strong></p>\n\n<p>Discover who you are beyond the attachments and limiting beliefs that are weighing you down and keeping you from truly living an empowered and authentic life</p>\n</div>\n\n<div>\n<p><strong>TAKE A DEEP DIVE INTO YOUR BODY</strong></p>\n\n<p>Learn ways to stop living in your head and start living fully in the present as you minimize your inner critic and reframe your internal script.</p>\n</div>\n\n<div>\n<p><strong>TAKE A DEEP DIVE INTO YOUR SOUL</strong></p>\n\n<p>Explore techniques that will awaken your personal power and help you create the life you desire.<br />\n&nbsp\;</p>\n</div>\n
LOCATION:Ember Glow Outdoor Resort 95 Pinewood Trail Mill Spring\, NC 28756
UID:e.2975.5760
SEQUENCE:3
DTSTAMP:20260419T201820Z
URL:https://business.hendersoncountychamber.org/events/details/empowered-woman-mindfulness-and-wellness-retreat-5760
END:VEVENT

END:VCALENDAR
